BEGIN:VCALENDAR
VERSION:2.0
PRODID:http://www.infomax-online.de/imxeventmanager/
METHOD:PUBLISH
BEGIN:VTIMEZONE
TZID:Europe/Berlin
TZURL:http://tzurl.org/zoneinfo-outlook/Europe/Berlin
X-LIC-LOCATION:Europe/Berlin
END:VTIMEZONE
BEGIN:VEVENT
UID:69e9f409e4cb7
LOCATION:Rothensande 1, 23714 Malente
SUMMARY;ENCODING=QUOTED-PRINTABLE:Hofführung auf Gut Immenhof
DESCRIPTION;ENCODING=QUOTED-PRINTABLE:Hofführung auf dem Gut Immenhof=0D=0A=0D=0AZweimal pro Woche können Sie die Geschichte des Gutes - früher und=0D=0Aheute erleben=0D=0A
URL;VALUE=URI:https://hamburgwhl.infomaxnet.de/standard_widget_de/e-hoffuehrung-auf-gut-immenhof?eventDateId=29817925&widgetToken=22vcqFKw4GE.&
CLASS:PUBLIC
DTSTART:20260418T143000
DTSTAMP:20260423T122721
END:VEVENT
END:VCALENDAR