BEGIN:VCALENDAR
VERSION:2.0
PRODID:http://www.infomax-online.de/imxeventmanager/
METHOD:PUBLISH
BEGIN:VTIMEZONE
TZID:Europe/Berlin
TZURL:http://tzurl.org/zoneinfo-outlook/Europe/Berlin
X-LIC-LOCATION:Europe/Berlin
END:VTIMEZONE
BEGIN:VEVENT
UID:69e5631a2e269
LOCATION:Aalweg 7, 23683 Haffkrug
SUMMARY;ENCODING=QUOTED-PRINTABLE:Schmuck Workshop mit Edelstein Perlen
DESCRIPTION;ENCODING=QUOTED-PRINTABLE:Dein Herz inspiriert, deine Hände erschaffen – Schmuck, der zu dir=0D=0Agehört.=0D=0A=0D=0ALust, dein eigenes Schmuckstück zu gestalten? Dann komm zu meinem=0D=0ASchmuck-Workshop nach Haffkrug.=0D=0A=0D=0AIn kleiner, gemütlicher Runde zeige ich dir Schritt für Schritt, wie=0D=0Aaus hochwertigen Edelsteinperlen und Edelmetallen (Silber oder Silber=0D=0Avergoldet) dein ganz persönliches Lieblingsstück entsteht. Ganz=0D=0Aentspannt im Wohnzimmer mit Blick in den Garten – mit Zeit, Ruhe und=0D=0AFreude am Ausprobieren.=0D=0A=0D=0AOb Kette oder Armband: Du entwirfst ein Schmuckstück, das wirklich zu=0D=0Adir passt.=0D=0A=0D=0ADas erwartet dich:=0D=0A-  Für Einsteigerinnen und Fortgeschrittene=0D=0A• Hochwertige Materialien=0D=0A• Persönliche Begleitung und fachkundige Anleitung=0D=0A• Eine entspannende kreative Auszeit=0D=0A=0D=0ASo läuft der Workshop ab:=0D=0A=0D=0AWir starten in lockerer Runde mit einer kurzen Einführung in die Welt=0D=0Ader Edelsteine.=0D=0ADu lernst Materialien und Werkzeuge kennen und beginnst dann mit=0D=0Adeinem eigenen Design.=0D=0A=0D=0AIch begleite dich bei der Auswahl, beim Kombinieren und bei der=0D=0AVerarbeitung – Schritt für Schritt und ganz in deinem Tempo.=0D=0A=0D=0AAm Ende nimmst du stolz dein neues Lieblingsstück mit nach Hause –=0D=0Aselbst entworfen, selbst gemacht und einfach richtig schön.=0D=0A=0D=0AFür wen ist der Workshop gedacht?=0D=0A=0D=0AFür alle, die Freude am kreativen Gestalten haben und ihr eigenes=0D=0ASchmuckstück anfertigen möchten. Vorkenntnisse brauchst du nicht.=0D=0AMindestalter: 16 Jahre.=0D=0A=0D=0ASichere dir deinen Platz und gönn dir diese besondere kreative Zeit.=0D=0A=0D=0AWorkshop-Preis:  147 € – inklusive 100 € Materialguthaben=0D=0A=0D=0AIm Preis sind bereits 100 € Materialguthaben enthalten. Dieses=0D=0Akannst du direkt vor Ort für deine Auswahl an Edelmetallen und=0D=0AEdelsteinen einsetzen.=0D=0A=0D=0ADamit gestaltest du schon ein hochwertiges, individuelles=0D=0ASchmuckstück. Du wählst in Ruhe die Steine und Elemente aus, die=0D=0Adich ansprechen, und entwickelst Schritt für Schritt dein eigenes=0D=0ADesign. Wenn du dich in weitere besondere Materialien verliebst,=0D=0Akannst du deine Auswahl selbstverständlich erweitern. So genießt du=0D=0Avolle Gestaltungsfreiheit bei klarer Transparenz im Preis.=0D=0A=0D=0A =0D=0A
URL;VALUE=URI:https://hamburgwhl.infomaxnet.de/standard_widget_de/e-schmuck-workshop-mit-edelstein-perlen?eventDateId=29816872&widgetToken=22vcqFKw4GE.&
CLASS:PUBLIC
DTSTART:20260419T103000
DTSTAMP:20260420T011954
END:VEVENT
END:VCALENDAR