BEGIN:VCALENDAR
VERSION:2.0
PRODID:http://www.infomax-online.de/imxeventmanager/
METHOD:PUBLISH
BEGIN:VTIMEZONE
TZID:Europe/Berlin
TZURL:http://tzurl.org/zoneinfo-outlook/Europe/Berlin
X-LIC-LOCATION:Europe/Berlin
END:VTIMEZONE
BEGIN:VEVENT
UID:69ed1b6a4273c
LOCATION:Ziegenhorn 1, 19395 Plau am See
SUMMARY;ENCODING=QUOTED-PRINTABLE:Exkursion zu den Baumriesen des Naturparks
DESCRIPTION;ENCODING=QUOTED-PRINTABLE:Exkursion anlässlich des Tages des Baumes am 25. April =0D=0A=0D=0AIm Naturpark Nossentiner/Schwinzer Heide gibt es etliche=0D=0Abemerkenswerte und besonders schöne alte Bäume. Anlässlich des=0D=0A"Tages des Baumes" bietet der Naturpark Nossentiner/Schwinzer Heide=0D=0Aeine Exkursion zu einigen Baumriesen des Naturparks an.=0D=0AExkursionsführer ist Ralf Koch.=0D=0A=0D=0ATreffpunkt ist am Karower Meiler. Ein eigener PKW ist erforderlich,=0D=0Aggf. werden Fahrgemeinschaften gebildet.=0D=0A=0D=0ADie Veranstaltung ist kostenfrei, Spenden für den Förderverein des=0D=0ANaturparks sind willkommen.=0D=0A
URL;VALUE=URI:https://hamburgwhl.infomaxnet.de/standard_widget_de/e-tag-des-baumes?eventDateId=29816269&widgetToken=22vcqFKw4GE.&
CLASS:PUBLIC
DTSTART:20260425T100000
DTSTAMP:20260425T215210
END:VEVENT
END:VCALENDAR