BEGIN:VCALENDAR
VERSION:2.0
PRODID:http://www.infomax-online.de/imxeventmanager/
METHOD:PUBLISH
BEGIN:VTIMEZONE
TZID:Europe/Berlin
TZURL:http://tzurl.org/zoneinfo-outlook/Europe/Berlin
X-LIC-LOCATION:Europe/Berlin
END:VTIMEZONE
BEGIN:VEVENT
UID:69e8e8cf1acde
LOCATION:Dachtmisser Straße 13, 21394 Kirchgellersen
SUMMARY;ENCODING=QUOTED-PRINTABLE:Vortrag - SoVD Gellersen
DESCRIPTION;ENCODING=QUOTED-PRINTABLE:AM MITTWOCH, 22.04.2026, UM 19:00 UHR LÄDT DER SOVD  GELLERSEN ZUM=0D=0AVORTRAGSABEND ZUM THEMA "ERBEN UND VERERBEN" INS DORFGEMEINSCHAFTSHAUS=0D=0AKIRCHGELLERSEN EIN.=0D=0A=0D=0A =0D=0A=0D=0A =0D=0A=0D=0A =0D=0A
URL;VALUE=URI:https://hamburgwhl.infomaxnet.de/standard_widget_de/e-vortrag-sovd-gellersen?eventDateId=29814452&widgetToken=22vcqFKw4GE.&
CLASS:PUBLIC
DTSTART:20260422T190000
DTSTAMP:20260422T172711
END:VEVENT
END:VCALENDAR