BEGIN:VCALENDAR
VERSION:2.0
PRODID:http://www.infomax-online.de/imxeventmanager/
METHOD:PUBLISH
BEGIN:VTIMEZONE
TZID:Europe/Berlin
TZURL:http://tzurl.org/zoneinfo-outlook/Europe/Berlin
X-LIC-LOCATION:Europe/Berlin
END:VTIMEZONE
BEGIN:VEVENT
UID:69e9f350cd513
LOCATION:Johannes-Brahms-Platz , 20355 Hamburg
SUMMARY;ENCODING=QUOTED-PRINTABLE:t.ziana
DESCRIPTION;ENCODING=QUOTED-PRINTABLE:Mit mitreißender Leidenschaft und unverstellter Authentizität macht=0D=0Adie Musikerin t.ziana alias Tiziana Moi seit 2017 den Soul neu=0D=0Aerlebbar. In facettenreichen, eingängigen Kompositionen verbinden=0D=0Asich samtig-gefühlvolle und groovige Arrangements mit wohldosierten=0D=0AElektro-Elementen. Ein aufregender Mix aus Vintage und Modern!=0D=0A=0D=0ABITTE BEACHTEN SIE: Aus organisatorischen Gründen wurde das Konzert=0D=0Ains Studio E der Laeiszhalle verlegt.=0D=0A=0D=0AIhre Songs sind von Künstler:innen wie Lianne La Havas, Erykah Badu,=0D=0ASade und Incognito beeinflusst. Tiziana Moi, Komponistin und Sängerin=0D=0Agenoss ihre Gesangausbildung bei namhaften Coaches wie Grant Stevens=0D=0Aund Brigitta Schaub. Heute steht sie auf der Bühne mit Musiker:innen=0D=0Awie Konstantin Wienstroer, Jan Lammert oder Dennis Hormes. Ende 2017=0D=0Averöffentlichte ihr erstes Album »Soul Sides«. Mit der EP »Playing=0D=0AGames« (2020) blieb sie ihrer Linie treu. Mit dem Song »Good=0D=0AThings« gewann t.ziana im April 2021 einen WDR Radio-Wettbewerb. Mit=0D=0Aihrem zweiten Album »Elements«, das Ende März 2023 veröffentlicht=0D=0Awurde, beginnt t.ziana eine weitere Reise. Die Verbindung der=0D=0Averschiedenen Genres Neo-Soul, Jazz und Pop ist nahtlos. t.ziana zeigt=0D=0Amit diesem Album eine erstklassige Performance mit guten Arrangements=0D=0Aund eingängigen Songs. Die Kompositionen sind kreativ und fernab des=0D=0AMainstream. Jeder Song ist einzigartig und verfügt über eine starke=0D=0Amelodische Struktur.=0D=0A=0D=0AIn 2025 veröffentlicht t.ziana die EP »Nuances«. Das Album bewegt=0D=0Asich zwischen Melancholie und Reflexion, mal zurückhaltend und=0D=0Aatmosphärisch, mal überraschend direkt. Sie spielt mit Kontrasten=0D=0A– zwischen Klarheit und Andeutung, Intuition und Aussage. Sie=0D=0Azeichnet das leise Farbspiel von Emotionen nach. t.ziana lässt ihre=0D=0Apersönlichen Erfahrungen und Gefühle in die englischen,=0D=0Aitalienischen und deutschen Texte einfließen. Auf der Bühne=0D=0Aentfalten sich die positive Ausstrahlung und der charakteristische=0D=0ACharme von t.ziana in fühlbarer Harmonie mit dem Publikum. Magische=0D=0AMomente, die nachklingen...=0D=0A=0D=0ABESETZUNG=0D=0A=0D=0AT.ZIANA Band=0D=0A=0D=0ATIZIANA MOI vocals=0D=0A=0D=0ADUY LUONG bass guitar=0D=0A=0D=0AJÖRG GROSSPIETSCH drums=0D=0A=0D=0ALYSANDER SCHWIEBERT keys=0D=0A
URL;VALUE=URI:https://hamburgwhl.infomaxnet.de/standard_widget_de/e-tziana?eventDateId=29806095&widgetToken=22vcqFKw4GE.&
CLASS:PUBLIC
DTSTART:20260423T180000
DTSTAMP:20260423T122416
END:VEVENT
END:VCALENDAR