BEGIN:VCALENDAR
VERSION:2.0
PRODID:http://www.infomax-online.de/imxeventmanager/
METHOD:PUBLISH
BEGIN:VTIMEZONE
TZID:Europe/Berlin
TZURL:http://tzurl.org/zoneinfo-outlook/Europe/Berlin
X-LIC-LOCATION:Europe/Berlin
END:VTIMEZONE
BEGIN:VEVENT
UID:69ed476f5427b
LOCATION:Seebrückenvorplatz , 23743 Grömitz
SUMMARY;ENCODING=QUOTED-PRINTABLE:Themen-Fahrradtour
DESCRIPTION;ENCODING=QUOTED-PRINTABLE:Zusammen mit dem Fahrrad-Guide Matthias Dammer fahren wir heute über=0D=0AGrömitz-Brenkenhagen, Bliesdorf, Schashagen, Beusloe und Merkendorf=0D=0Anach Rettin. Nach einer Mittagspause geht es wieder zurück über Gut=0D=0ABrodau, Bliesdorf, Brenkenhagen und Körnick nach Grömitz.=0D=0A
URL;VALUE=URI:https://hamburgwhl.infomaxnet.de/standard_widget_de/e-themen-fahrradtour-7?eventDateId=29804613&widgetToken=22vcqFKw4GE.&
CLASS:PUBLIC
DTSTART:20260429T100000
DTSTAMP:20260426T005959
END:VEVENT
END:VCALENDAR