BEGIN:VCALENDAR
VERSION:2.0
PRODID:http://www.infomax-online.de/imxeventmanager/
METHOD:PUBLISH
BEGIN:VTIMEZONE
TZID:Europe/Berlin
TZURL:http://tzurl.org/zoneinfo-outlook/Europe/Berlin
X-LIC-LOCATION:Europe/Berlin
END:VTIMEZONE
BEGIN:VEVENT
UID:69e5ed4b044f0
LOCATION:Franzosenweg , 19053 Schwerin
SUMMARY;ENCODING=QUOTED-PRINTABLE:Töne haben viele Farben
DESCRIPTION;ENCODING=QUOTED-PRINTABLE:Familienkonzert ab 7 Jahren=0D=0A=0D=0AWas verbirgt sich hinter den Noten, den Instrumenten und den Zeichen=0D=0Afür Dynamik und Tempo? In diesem interaktiven Konzert lernen junge=0D=0AZuhörer:innen alles über die faszinierende Sprache der Musik.=0D=0AModeriert von Reinhild Köhncke.=0D=0A
URL;VALUE=URI:https://hamburgwhl.infomaxnet.de/standard_widget_de/e-toene-haben-viele-farben?eventDateId=29803795&widgetToken=22vcqFKw4GE.&
CLASS:PUBLIC
DTSTART:20260421T100000
DTSTAMP:20260420T110931
END:VEVENT
END:VCALENDAR