BEGIN:VCALENDAR
VERSION:2.0
PRODID:http://www.infomax-online.de/imxeventmanager/
METHOD:PUBLISH
BEGIN:VTIMEZONE
TZID:Europe/Berlin
TZURL:http://tzurl.org/zoneinfo-outlook/Europe/Berlin
X-LIC-LOCATION:Europe/Berlin
END:VTIMEZONE
BEGIN:VEVENT
UID:69ea369e2e884
LOCATION:Kirchplatz 3, 19395 Plau am See
SUMMARY;ENCODING=QUOTED-PRINTABLE:Seminar für das „Kleingemüse“ - Für Bläser von 8 bis 13 Jahren
DESCRIPTION;ENCODING=QUOTED-PRINTABLE:INFO UND ANMELDUNG: www.posaunenwerk-emvau.de=0D=0A[http://www.posaunenwerk-emvau.de]=0D=0A=0D=0AVERANSTALTER=0D=0A=0D=0A	* Kirchenmusik der Nordkirche=0D=0A[https://www.nordkirche.de/institution/?nkci=7460]=0D=0A=0D=0A
URL;VALUE=URI:https://hamburgwhl.infomaxnet.de/standard_widget_de/e-seminar-fuer-das-kleingemuese-fuer-blaeser-von-8-bis-13-jahren-1?eventDateId=29803565&widgetToken=22vcqFKw4GE.&
CLASS:PUBLIC
DTSTART:20260417T100000
DTSTAMP:20260423T171126
END:VEVENT
END:VCALENDAR