BEGIN:VCALENDAR
VERSION:2.0
PRODID:http://www.infomax-online.de/imxeventmanager/
METHOD:PUBLISH
BEGIN:VTIMEZONE
TZID:Europe/Berlin
TZURL:http://tzurl.org/zoneinfo-outlook/Europe/Berlin
X-LIC-LOCATION:Europe/Berlin
END:VTIMEZONE
BEGIN:VEVENT
UID:69e66ee977ee1
LOCATION:Ohnhorststraße 18, 22609 Hamburg
SUMMARY;ENCODING=QUOTED-PRINTABLE:Führung: Gans klein – Nachwuchs im Botanischen Garten
DESCRIPTION;ENCODING=QUOTED-PRINTABLE:Wir besuchen die Graugansfamilien im Garten und beobachten ihr sehr=0D=0Aausgeprägtes Sozialverhalten. Wie ziehen die Gänseeltern ihren=0D=0ANachwuchs groß? Woran erkennt man Vater und Mutter? Wer übernimmt=0D=0Awelche Aufgaben bei der „Erziehung“? Welche Gefahren lauern auf=0D=0Adie Küken? Wie verhalten sich Artgenossen ohne Nachwuchs? Was sind=0D=0Adie Besonderheiten an diesem Gebiet und welchen Einfluss haben die=0D=0Ahier vorkommenden Kanadagänse?=0D=0A=0D=0AFernglas von Vorteil. Bitte keine Hunde mitbringen.=0D=0A=0D=0AEintritt und Teilnahme frei. Eine Anmeldung ist nicht erforderlich.=0D=0A
URL;VALUE=URI:https://hamburgwhl.infomaxnet.de/standard_widget_de/e-fuehrung-gans-klein-nachwuchs-im-botanischen-garten-2?eventDateId=29803529&widgetToken=22vcqFKw4GE.&
CLASS:PUBLIC
DTSTART:20260421T183000
DTSTAMP:20260420T202233
END:VEVENT
END:VCALENDAR