BEGIN:VCALENDAR
VERSION:2.0
PRODID:http://www.infomax-online.de/imxeventmanager/
METHOD:PUBLISH
BEGIN:VTIMEZONE
TZID:Europe/Berlin
TZURL:http://tzurl.org/zoneinfo-outlook/Europe/Berlin
X-LIC-LOCATION:Europe/Berlin
END:VTIMEZONE
BEGIN:VEVENT
UID:69e65e1c338f9
LOCATION:Kurdamm 24, 21107 Hamburg
SUMMARY;ENCODING=QUOTED-PRINTABLE:Naturnahe Gestaltung mit Wildpflanzen für mehr Artenschutz und=0D=0AArtenvielfalt im Garten
DESCRIPTION;ENCODING=QUOTED-PRINTABLE:Bei der Führung im Garten "Quelle des Glücks" lernen Sie die=0D=0Arichtigen Wildstauden kennen, um im Garten und auf dem Balkon=0D=0ANahrungsquellen und Lebensräume für bedrohte Insekten,=0D=0ASchmetterlinge, Wildbienen und Hummeln zu gestalten. =0D=0A=0D=0AJutta Brendel gibt Tipps für die richtige Pflege, damit der Garten=0D=0Anicht "verwildert", sondern voller Leben ist und blühende,=0D=0Avielfältige Schönheit zaubert. Im Anschluss pflanzen wir neue=0D=0AStauden und Gräser im Garten. Wer gerne mithelfen möchte, bringt=0D=0Abitte Handschuhe und eine kleine Schaufel mit.=0D=0A=0D=0AAnmeldung: wilhelmsburgerinselpark@hamburg-mitte.hamburg.de=0D=0A=0D=0ADie Veranstaltung ist kostenfrei.=0D=0A
URL;VALUE=URI:https://hamburgwhl.infomaxnet.de/standard_widget_de/e-naturnahe-gestaltung-mit-wildpflanzen-fuer-mehr-artenschutz-und-artenvielfalt-im-garten?eventDateId=29803481&widgetToken=22vcqFKw4GE.&
CLASS:PUBLIC
DTSTART:20260424T150000
DTSTAMP:20260420T191052
END:VEVENT
END:VCALENDAR