BEGIN:VCALENDAR
VERSION:2.0
PRODID:http://www.infomax-online.de/imxeventmanager/
METHOD:PUBLISH
BEGIN:VTIMEZONE
TZID:Europe/Berlin
TZURL:http://tzurl.org/zoneinfo-outlook/Europe/Berlin
X-LIC-LOCATION:Europe/Berlin
END:VTIMEZONE
BEGIN:VEVENT
UID:69ed7fb06f54b
LOCATION:Schweizer Straße 58, 23714 Malente
SUMMARY;ENCODING=QUOTED-PRINTABLE:Fotoworkshop "Kreative Naturfotografie"
DESCRIPTION;ENCODING=QUOTED-PRINTABLE:Fotoworkshop "Kreativ Naturfotografie"=0D=0A=0D=0AFotoworkshop "Kreative Naturfotografie"=0D=0A
URL;VALUE=URI:https://hamburgwhl.infomaxnet.de/standard_widget_de/e-fotoworkshop-kreative-naturfotografie?eventDateId=29725511&widgetToken=22vcqFKw4GE.&
CLASS:PUBLIC
DTSTART:20260426T090000
DTSTAMP:20260426T050000
END:VEVENT
END:VCALENDAR