BEGIN:VCALENDAR
VERSION:2.0
PRODID:http://www.infomax-online.de/imxeventmanager/
METHOD:PUBLISH
BEGIN:VTIMEZONE
TZID:Europe/Berlin
TZURL:http://tzurl.org/zoneinfo-outlook/Europe/Berlin
X-LIC-LOCATION:Europe/Berlin
END:VTIMEZONE
BEGIN:VEVENT
UID:69e656cd8564f
LOCATION:Heidi-Kabel-Platz 1, 20099 Hamburg
SUMMARY;ENCODING=QUOTED-PRINTABLE:XFood Tour - St Georg kulinarisch
DESCRIPTION;ENCODING=QUOTED-PRINTABLE:Eine Veranstaltung der Reihe XFood Tour - St. Georg kulinarisch |=0D=0AAdventure World Tours 2025=0D=0A=0D=0ASt. Georg ist ein kontrastreiches Viertel der besonderen Art. Hier=0D=0Atreffen Welten aufeinander – kunterbunt trifft schick, trifft=0D=0Azwielichtig. Mitten im Herzen Hamburgs, zwischen Alster und=0D=0AHauptbahnhof, lag einst ein düsterer Ort, an dem Gewalt, Pest und=0D=0AHinrichtungen an der Tagesordnung standen. Heute ist daraus ein=0D=0Akunterbuntes Szene-Viertel und multikultureller Vorzeigestadtteil=0D=0Ageworden. Allerdings ist St. Georg bei weitem noch nicht so bekannt=0D=0Awie etwa St. Pauli oder die Sternschanze – und gilt daher als=0D=0Aabsoluter Geheimtipp.=0D=0A=0D=0AAuf unserer zweieinhalbstündigen kulinarischen Entdeckungstour zeigen=0D=0Awir dir St. Georg, wie es wirklich ist: ein toleranter Ort=0D=0Aoffenherzigen Miteinanders von Menschen unterschiedlicher Herkunft,=0D=0Asexueller Orientierung und religiöser Gesinnung.=0D=0A=0D=0AUnsere qualifizierten und hochmotivierten Guides führen dich vorbei=0D=0Aan berühmten Theaterhäusern und Kirchen, über den Hansaplatz und=0D=0Adurch die Lange Reihe, die „Hauptstraße“ des Viertels. Hier tobt=0D=0Adas Leben in all den Bars, Cafés, Restaurants und Boutiquen; hier=0D=0Astartet alljährlich der Christopher Street Day.=0D=0A=0D=0AIn familiärer Atmosphäre flanieren wir durch Hamburgs stolze=0D=0Aschwulesbische Regenbogen-Hochburg und du erfährst spannende=0D=0AAnekdoten rund um die Historie und Entwicklung dieses einzigartigen=0D=0AFleckchens: Schon gewusst, dass hier das älteste Haus Hamburgs steht?=0D=0AUnd dass mit Heidi Kabel und Hans Albers gleich zwei der absoluten=0D=0Akünstlerischen Urgesteine Hamburgs in St. Georg ihre Wurzeln hatten?=0D=0ABei dieser Tour bleibt keine Frage offen – und kein Magen leer! Denn=0D=0Azwischendurch erwarten dich fünf Spezialitäten in ausgewählten=0D=0ARestaurants... Auf ins Abenteuer!=0D=0A=0D=0AInklusive: 5 Kostproben=0D=0A=0D=0AFür Notfälle und Rückfragen vor Ort steht Ihnen der lokale Anbieter=0D=0Aunter folgender Nummer zur Verfügung: 040 75663399=0D=0A
URL;VALUE=URI:https://hamburgwhl.infomaxnet.de/standard_widget_de/e-xfood-tour-st-georg-kulinarisch-5?eventDateId=29718470&widgetToken=22vcqFKw4GE.&
CLASS:PUBLIC
DTSTART:20260420T143000
DTSTAMP:20260420T183941
END:VEVENT
END:VCALENDAR