BEGIN:VCALENDAR
VERSION:2.0
PRODID:http://www.infomax-online.de/imxeventmanager/
METHOD:PUBLISH
BEGIN:VTIMEZONE
TZID:Europe/Berlin
TZURL:http://tzurl.org/zoneinfo-outlook/Europe/Berlin
X-LIC-LOCATION:Europe/Berlin
END:VTIMEZONE
BEGIN:VEVENT
UID:69e601f5a51e0
LOCATION:Klöresgang 2, 19053 Schwerin
SUMMARY;ENCODING=QUOTED-PRINTABLE:Rudelle
DESCRIPTION;ENCODING=QUOTED-PRINTABLE:Feministischer Lesezirkel Schwerin=0D=0A=0D=0ADas Rudelle ist ein offener Treffpunkt für alle Frauen*, die sich=0D=0Agemeinsam mit feministischen Themen auseinandersetzen möchten. Wir=0D=0Abeschäftigen uns immer zwei Treffen lang mit je einem feministischen=0D=0ASachbuch und Roman (frei wählbar) und nutzen die Inhalte als Impulse=0D=0Afür Austausch und kreative Formate. Ohne Anmeldung. Wir freuen uns=0D=0Aauf euch!=0D=0A
URL;VALUE=URI:https://hamburgwhl.infomaxnet.de/standard_widget_de/e-rudelle?eventDateId=29714229&widgetToken=22vcqFKw4GE.&
CLASS:PUBLIC
DTSTART:20260421T190000
DTSTAMP:20260420T123741
END:VEVENT
END:VCALENDAR