BEGIN:VCALENDAR
VERSION:2.0
PRODID:http://www.infomax-online.de/imxeventmanager/
METHOD:PUBLISH
BEGIN:VTIMEZONE
TZID:Europe/Berlin
TZURL:http://tzurl.org/zoneinfo-outlook/Europe/Berlin
X-LIC-LOCATION:Europe/Berlin
END:VTIMEZONE
BEGIN:VEVENT
UID:69ea2d1c3cd9e
LOCATION:Besenbinderhof 57a, 20097 Hamburg
SUMMARY;ENCODING=QUOTED-PRINTABLE:Wer bekommt Recht, wer nicht? – Gleichheitsversprechen und soziale=0D=0ARealität
DESCRIPTION;ENCODING=QUOTED-PRINTABLE:Das zentrale Versprechen des Rechtsstaats ist es, dass Justitia blind=0D=0Aist. Doch Verfassungsanspruch und Wirklichkeit klaffen zuweilen=0D=0Aauseinander. Das schafft nicht nur für Betroffene Probleme. Es=0D=0Agefährdet zudem die Wertschätzung für ein demokratisches=0D=0AGemeinwesen. In Zeiten einer weltweiten Erosion des Rechts allemal.=0D=0AWas ist zu tun, damit vor Gericht wirklich alle gleich sind?=0D=0A =0D=0AIn Kooperation mit der AG Soziales Hamburg, der Bucerius Law School=0D=0Aund dem Hamburgischen Anwaltverein=0D=0A =0D=0AVERANSTALTUNGSART:=0D=0ATagung=0D=0A =0D=0ATEILNAHMEBEITRAG:=0D=0A20 Euro, kostenfrei für Studierende=0D=0A =0D=0ASTUDIENLEITUNG:=0D=0AJürgen Heilig=0D=0A =0D=0ALINK ZUR VERANSTALTUNG:=0D=0Ahttps://akademie-nordkirche.de/veranstaltungen/aktuelles/1592=0D=0A=0D=0AVERANSTALTER=0D=0A=0D=0A	* Evangelische Akademie der Nordkirche=0D=0A[https://www.nordkirche.de/institution/?nkci=1767]=0D=0A=0D=0A
URL;VALUE=URI:https://hamburgwhl.infomaxnet.de/standard_widget_de/e-wer-bekommt-recht-wer-nicht-gleichheitsversprechen-und-soziale-realitaet?eventDateId=29713954&widgetToken=22vcqFKw4GE.&
CLASS:PUBLIC
DTSTART:20260423T093000
DTSTAMP:20260423T163052
END:VEVENT
END:VCALENDAR