BEGIN:VCALENDAR
VERSION:2.0
PRODID:http://www.infomax-online.de/imxeventmanager/
METHOD:PUBLISH
BEGIN:VTIMEZONE
TZID:Europe/Berlin
TZURL:http://tzurl.org/zoneinfo-outlook/Europe/Berlin
X-LIC-LOCATION:Europe/Berlin
END:VTIMEZONE
BEGIN:VEVENT
UID:69e8889c5aba8
LOCATION:Reeperbahn 136, 20359 Hamburg
SUMMARY;ENCODING=QUOTED-PRINTABLE:The Virginmarys
DESCRIPTION;ENCODING=QUOTED-PRINTABLE:The Virginmarys gehören seit Jahren zu den spannendsten Rock-Acts=0D=0AGroßbritanniens – im April 2026 kommen sie endlich wieder für eine=0D=0AReihe eigener Headline-Shows nach Deutschland. Das Duo aus=0D=0AMacclesfield, bestehend aus Sänger und Gitarrist Ally Dickaty sowie=0D=0ADrummer Danny Dolan, hat sich mit seinem kompromisslosen Mix aus Punk,=0D=0AGrunge und Alternative Rock einen festen Platz in der internationalen=0D=0ARockszene erspielt. Seit ihrer Gründung überzeugten sie mit einer=0D=0Aunbändigen Energie, die sowohl ihre Studioaufnahmen als auch ihre=0D=0ALive-Auftritte prägt. Erstmals rückten The Virginmarys 2013=0D=0Averstärkt ins Rampenlicht, als ihr Debütalbum „King of Conflict“=0D=0Abeeindruckende Chartplatzierungen erzielte und direkt auf Platz 3 der=0D=0ABillboard New Artist Alternative Chart sowie Platz 8 der Billboard=0D=0AHeatseekers Chart einstieg. Diese frühe Aufmerksamkeit öffnete der=0D=0ABand die Türen zu umfangreichen Tourneen rund um den Globus. In den=0D=0Adarauffolgenden Jahren führten sie ihre explosiven Liveshows quer=0D=0Adurch das Vereinigte Königreich, Europa, die USA und Japan. Dabei=0D=0Astanden sie bereits mit Größen wie Queens of the Stone Age,=0D=0AShinedown, Slash und The Sisters Of Mercy auf der Bühne und festigten=0D=0Aihren Ruf als mitreißender und leidenschaftlicher Live-Act.=0D=0AMusikalisch stehen The Virginmarys für kraftvolle Gitarrenriffs,=0D=0Atreibende Drums und markante, raue Vocals, die von intensiver=0D=0AEmotionalität getragen werden. Ihre Texte bewegen sich gekonnt=0D=0Azwischen persönlichen Konflikten und gesellschaftlichen oder=0D=0Apolitischen Themen. Diese Mischung aus melodischer Direktheit,=0D=0Aaggressiver Wucht und ehrlicher Haltung verleiht ihrer Musik eine=0D=0Abesondere Wirkung, die sich unmittelbar auf das Publikum überträgt.=0D=0AFans schätzen vor allem die authentische, rebellische Note, die sich=0D=0Awie ein roter Faden durch ihr gesamtes Œuvre zieht. Nach ihrem=0D=0Ajüngsten Studioalbum, das 2024 erschienen ist und eine erfolgreiche=0D=0AUK- und Europa-Headline-Tour begleitete, schlagen The Virginmarys nun=0D=0Adas nächste Kapitel auf. Im April 2026 kehren sie auf die Bühnen=0D=0AEuropas zurück und präsentieren ihre Songs in gewohnt intensiver=0D=0AManier. Mit ihrer unverwechselbaren Mischung aus Energie, Leidenschaft=0D=0Aund musikalischer Wucht versprechen The Virginmarys auch 2026 fünf=0D=0Akraftvolle Shows, die lange im Gedächtnis bleiben werden. Fans=0D=0Adürfen sich auf Abende voller purer Livepower freuen. Wer das nicht=0D=0Averpassen will, sollte sich jetzt Tickets sichern!=0D=0A
URL;VALUE=URI:https://hamburgwhl.infomaxnet.de/standard_widget_de/e-the-virginmarys-2?eventDateId=29676329&widgetToken=22vcqFKw4GE.&
CLASS:PUBLIC
DTSTART:20260422T200000
DTSTAMP:20260422T103644
END:VEVENT
END:VCALENDAR