BEGIN:VCALENDAR
VERSION:2.0
PRODID:http://www.infomax-online.de/imxeventmanager/
METHOD:PUBLISH
BEGIN:VTIMEZONE
TZID:Europe/Berlin
TZURL:http://tzurl.org/zoneinfo-outlook/Europe/Berlin
X-LIC-LOCATION:Europe/Berlin
END:VTIMEZONE
BEGIN:VEVENT
UID:69ed7a9ecde51
LOCATION:Auf der Festung 3, 19303 Dömitz
SUMMARY;ENCODING=QUOTED-PRINTABLE:11. BiosphäreElbeMarkt
DESCRIPTION;ENCODING=QUOTED-PRINTABLE:Auf dem Hof der Festung Dömitz erwarten Sie kulinarische=0D=0AKöstlichkeiten und regionale Produkte,=0D=0A=0D=0AAuf dem Hof der Festung Dömitz erwarten Sie kulinarische=0D=0AKöstlichkeiten und regionale Produkte von Partnern des=0D=0ABiosphärenreservates Flusslandschaft Elbe, ein abwechslungsreiches=0D=0AFührungsprogramm, ein buntes Kinder- und kulturelles Rahmenprogramm=0D=0Asowie die Ausstellungseröffnung "Wilde Elbe".=0D=0A=0D=0APreis: 2,00 €/Erwachsene, Kinder bis 14 Jahre kostenfrei.=0D=0A=0D=0AWeitere Informationen:=0D=0A=0D=0ATel. 0385 58863100=0D=0Awww.elbetal-mv.de=0D=0Awww.facebook.com/brelbe=0D=0A
URL;VALUE=URI:https://hamburgwhl.infomaxnet.de/standard_widget_de/e-8-biosphaereelbemarkt?eventDateId=29664009&widgetToken=22vcqFKw4GE.&
CLASS:PUBLIC
DTSTART:20260426T110000
DTSTAMP:20260426T043822
END:VEVENT
END:VCALENDAR