BEGIN:VCALENDAR
VERSION:2.0
PRODID:http://www.infomax-online.de/imxeventmanager/
METHOD:PUBLISH
BEGIN:VTIMEZONE
TZID:Europe/Berlin
TZURL:http://tzurl.org/zoneinfo-outlook/Europe/Berlin
X-LIC-LOCATION:Europe/Berlin
END:VTIMEZONE
BEGIN:VEVENT
UID:69ea4b4dc6a13
LOCATION:Platz der Deutschen Einheit 1, 20457 Hamburg
SUMMARY;ENCODING=QUOTED-PRINTABLE:Yutong Sun / Klavierabend
DESCRIPTION;ENCODING=QUOTED-PRINTABLE:Der rasant aufstrebende junge chinesische Pianist Yutong Sun, dessen=0D=0ASpiel für seine außergewöhnliche strukturelle Klarheit, innere=0D=0ASpannung und eine Klanggestaltung von Weltklasse von der=0D=0Ainternationalen Presse gefeiert wird, gilt als einer der=0D=0Abemerkenswertesten musikalischen Erzähler seiner Generation. =0D=0AIn seinem Debüt im Kleinen Saal der Elbphilharmonie entwirft Yutong=0D=0ASun einen programmatischen Bogen über drei Jahrhunderte, in dem sich=0D=0Adie großen Themen Innerlichkeit, Transformation und Bildhaftigkeit=0D=0Aspiegeln. Von Beethovens spätwerklicher Selbstbefragung über Busonis=0D=0Aromantisch gefilterte Re-Imagination der Bach’schen Chaconne bis hin=0D=0Azu Debussys irisierender Welt aus Licht und Maskenspiel –=0D=0Aschließlich mündend in Mussorgskys ikonischem Zyklus Bilder einer=0D=0AAusstellung, der Klang, Erinnerung und visuelle Imagination in eine=0D=0Amitreißende Synthese führt.=0D=0A=0D=0ABESETZUNG=0D=0A=0D=0AYUTONG SUN Klavier=0D=0A=0D=0APROGRAMM=0D=0A=0D=0ALUDWIG VAN BEETHOVEN=0D=0ASonate für Klavier As-Dur op. 110=0D=0A=0D=0AJOHANN SEBASTIAN BACH / FERRUCCIO BUSONI=0D=0AChaconne=0D=0A=0D=0A- Pause -=0D=0A=0D=0ACLAUDE DEBUSSY=0D=0AMasques=0D=0A=0D=0ACLAUDE DEBUSSY=0D=0AL’isle joyeuse=0D=0A=0D=0AMODEST MUSSORGSKY=0D=0ABilder einer Ausstellung=0D=0A
URL;VALUE=URI:https://hamburgwhl.infomaxnet.de/standard_widget_de/e-yutong-sun-klavierabend?eventDateId=29656498&widgetToken=22vcqFKw4GE.&
CLASS:PUBLIC
DTSTART:20260425T193000
DTSTAMP:20260423T183941
END:VEVENT
END:VCALENDAR