BEGIN:VCALENDAR
VERSION:2.0
PRODID:http://www.infomax-online.de/imxeventmanager/
METHOD:PUBLISH
BEGIN:VTIMEZONE
TZID:Europe/Berlin
TZURL:http://tzurl.org/zoneinfo-outlook/Europe/Berlin
X-LIC-LOCATION:Europe/Berlin
END:VTIMEZONE
BEGIN:VEVENT
UID:69ea2bd004a01
LOCATION:Gaußstraße 71-75, 22765 Hamburg
SUMMARY;ENCODING=QUOTED-PRINTABLE:Darf man wütend sein?
DESCRIPTION;ENCODING=QUOTED-PRINTABLE:Wenn wir Kindern Raum für Gespräch und Fragen geben, zeigen sich oft=0D=0Ainteressante und tiefsinnige Gedanken. Es lohnt sich, im Unterricht=0D=0Aimmer wieder Zeiten anzubieten, in denen Kinder selbst gewählten=0D=0Aoffenen Fragestellungen nachgehen können und lernen, sich=0D=0Aauszutauschen.=0D=0A=0D=0AIn dieser Fortbildungsreihe gehen wir jeweils einem Fragebereich nach,=0D=0Ader im neuen Bildungsplan eine Rolle spielt, und erproben immer ein=0D=0Aoffenes Gespräch. Darüber hinaus gibt es Anregungen zur Vorbereitung=0D=0Aund Ideen zur Unterrichtsgestaltung.=0D=0A=0D=0A =0D=0A=0D=0ADie Teilnahme an einzelnen Fortbildungen ist möglich.=0D=0A=0D=0ALEITUNG=0D=0A=0D=0ABeate Peters=0D=0A=0D=0AMITWIRKENDE=0D=0A=0D=0AGerlinde Krehn, Dipl. Religionspädagogin, Trainerin für=0D=0Aphilosophische Gesprächsführung=0D=0A=0D=0AVERANSTALTER=0D=0A=0D=0A	* Pädagogisch-Theologisches Institut der Nordkirche - Standort=0D=0AHamburg [https://www.nordkirche.de/institution/?nkci=4685]=0D=0A=0D=0A
URL;VALUE=URI:https://hamburgwhl.infomaxnet.de/standard_widget_de/e-darf-man-wuetend-sein?eventDateId=29652768&widgetToken=22vcqFKw4GE.&
CLASS:PUBLIC
DTSTART:20260423T160000
DTSTAMP:20260423T162520
END:VEVENT
END:VCALENDAR