BEGIN:VCALENDAR
VERSION:2.0
PRODID:http://www.infomax-online.de/imxeventmanager/
METHOD:PUBLISH
BEGIN:VTIMEZONE
TZID:Europe/Berlin
TZURL:http://tzurl.org/zoneinfo-outlook/Europe/Berlin
X-LIC-LOCATION:Europe/Berlin
END:VTIMEZONE
BEGIN:VEVENT
UID:69e77419a9560
LOCATION:Kirchenpauerkai 29, 20457 Hamburg
SUMMARY;ENCODING=QUOTED-PRINTABLE:Corpus Delicti (fr), Ak'chamel (us)
DESCRIPTION;ENCODING=QUOTED-PRINTABLE:deathrock | dark folk | goth | postpunk | experimental | chants |=0D=0Alo-fi | oud | ritual=0D=0A=0D=0ACorpus Delicti from Nice returns with Liminal, a new record that is=0D=0Aboth dark and luminous, vibrant and urgent, set for release 28th=0D=0ANovember 2025 on . The band is back with music that remains faithful=0D=0Ato their roots while embracing a modern edge.=0D=0A=0D=0AAk’chamel - a band of post-apocalyptic wanderers, using shattered=0D=0Ainstruments and grotesque regalia to revive shadowed sagas of=0D=0Ayestertide. Fictional folk music from the shadow world. We are honored=0D=0Ato welcome them on board for the second time.=0D=0A=0D=0ADas Konzert wird unterstützt vom Verband für aktuelle Musik Hamburg=0D=0Aund der Behörde für Kultur und Medien Hamburg. Supported by=0D=0APlattenkiste=0D=0A
URL;VALUE=URI:https://hamburgwhl.infomaxnet.de/standard_widget_de/e-corpus-delicti-fr-akchamel-us?eventDateId=29648095&widgetToken=22vcqFKw4GE.&
CLASS:PUBLIC
DTSTART:20260421T193000
DTSTAMP:20260421T145657
END:VEVENT
END:VCALENDAR