BEGIN:VCALENDAR
VERSION:2.0
PRODID:http://www.infomax-online.de/imxeventmanager/
METHOD:PUBLISH
BEGIN:VTIMEZONE
TZID:Europe/Berlin
TZURL:http://tzurl.org/zoneinfo-outlook/Europe/Berlin
X-LIC-LOCATION:Europe/Berlin
END:VTIMEZONE
BEGIN:VEVENT
UID:69ed7f1f9ab57
LOCATION:Max-Brauer-Allee 76, 22765 Hamburg
SUMMARY;ENCODING=QUOTED-PRINTABLE:Der Karneval der Tiere
DESCRIPTION;ENCODING=QUOTED-PRINTABLE:Eine Veranstaltung der Reihe Der Karneval der Tiere - Theater für=0D=0AKinder Hamburg=0D=0A=0D=0ADer Karneval der Tiere - Theater für Kinder Hamburg=0D=0A
URL;VALUE=URI:https://hamburgwhl.infomaxnet.de/standard_widget_de/e-der-karneval-der-tiere-14?eventDateId=29646996&widgetToken=22vcqFKw4GE.&
CLASS:PUBLIC
DTSTART:20260426T110000
DTSTAMP:20260426T045735
END:VEVENT
END:VCALENDAR