BEGIN:VCALENDAR
VERSION:2.0
PRODID:http://www.infomax-online.de/imxeventmanager/
METHOD:PUBLISH
BEGIN:VTIMEZONE
TZID:Europe/Berlin
TZURL:http://tzurl.org/zoneinfo-outlook/Europe/Berlin
X-LIC-LOCATION:Europe/Berlin
END:VTIMEZONE
BEGIN:VEVENT
UID:69ed1e7555412
LOCATION:Seebrückenvorplatz , 23743 Grömitz
SUMMARY;ENCODING=QUOTED-PRINTABLE:Megamarsch Ostsee
DESCRIPTION;ENCODING=QUOTED-PRINTABLE:50km. 12 Stunden. Zu Fuß. Bist Du bereit für den Megamarsch 50/12=0D=0AOstsee 2026 in Schleswig-Holstein? Warst Du schon mal in Grömitz oder=0D=0AScharbeutz? Nein?! Dann wird es höchste Zeit! Direkt an der Ostsee=0D=0Agelegen, bieten die beiden Städte eine ideale Location für den=0D=0AMegamarsch! Auf der 50km langen Strecke wanderst Du von Grömitz nach=0D=0AScharbeutz und kannst so beide Orte kennenlernen. Im Laufe des=0D=0AMarsches werden Dir auf der Strecke die Megamarscher entgegen kommen,=0D=0Adie in Scharbeutz gestartet sind und nach Grömitz wandern. So siehst=0D=0ADu die anderen Megamarscher endlich mal von Vorne und kannst=0D=0Amotivierende Worte austauschen! 50km wandern in 12 Stunden. Am Stück.=0D=0AUnd später erschöpft und glücklich ins Ziel! Mal ehrlich: Die=0D=0Ameisten Menschen werden in ihrem Leben nicht einmal 20 km am Stück zu=0D=0AFuß gehen. Deshalb bekommst Du beim Megamarsch eine Urkunde, sobald=0D=0ADu diese Hürde genommen hast. Für Kilometer 30 und 40 gibt es=0D=0Aebenfalls eine. Wer physisch und mental stark genug ist, bekommt dann=0D=0Adie Ehre mit der 50 km Urkunde und die Aufnahme in die Hall of Fame=0D=0Ades Megamarsch 50/12. Wer sich dann bereit fühlt, kann sich dann=0D=0Aanschließend an einem 100km-Megamarsch versuchen. Du schaffst das! Du=0D=0Abist stark! Trau Dich und melde Dich jetzt für ein unvergessliches=0D=0AAbenteuer an! Let's do this.=0D=0A
URL;VALUE=URI:https://hamburgwhl.infomaxnet.de/standard_widget_de/e-megamarsch-ostsee-5?eventDateId=29642300&widgetToken=22vcqFKw4GE.&
CLASS:PUBLIC
DTSTART:20260425T073000
DTSTAMP:20260425T220509
END:VEVENT
END:VCALENDAR