BEGIN:VCALENDAR
VERSION:2.0
PRODID:http://www.infomax-online.de/imxeventmanager/
METHOD:PUBLISH
BEGIN:VTIMEZONE
TZID:Europe/Berlin
TZURL:http://tzurl.org/zoneinfo-outlook/Europe/Berlin
X-LIC-LOCATION:Europe/Berlin
END:VTIMEZONE
BEGIN:VEVENT
UID:69ea0aca048e8
LOCATION:Dammtorstraße 28, 20354 Hamburg
SUMMARY;ENCODING=QUOTED-PRINTABLE:Der Freischütz
DESCRIPTION;ENCODING=QUOTED-PRINTABLE:Damit der Jäger Max seine geliebte Agathe heiraten kann, wird ihm=0D=0Aeine Prüfung auferlegt. Um sie zu bestehen, geht er in einem=0D=0Adiabolischen Ritual einen Pakt mit dem mysteriösen Samiel ein …=0D=0ARegisseur Andreas Kriegenburg siedelt die berühmte Handlung in=0D=0Averschiedenen Zeiten an: Neben der Entstehungszeit der Oper, dem=0D=0Afrühen 19. Jahrhundert, sind im holzvertäfelten Bühnenraum=0D=0AReminiszenzen der 1920er und 1950er Jahre eingearbeitet.=0D=0A
URL;VALUE=URI:https://hamburgwhl.infomaxnet.de/standard_widget_de/e-der-freischuetz-10?eventDateId=29628518&widgetToken=22vcqFKw4GE.&
CLASS:PUBLIC
DTSTART:20260423T193000
DTSTAMP:20260423T140426
END:VEVENT
END:VCALENDAR