BEGIN:VCALENDAR
VERSION:2.0
PRODID:http://www.infomax-online.de/imxeventmanager/
METHOD:PUBLISH
BEGIN:VTIMEZONE
TZID:Europe/Berlin
TZURL:http://tzurl.org/zoneinfo-outlook/Europe/Berlin
X-LIC-LOCATION:Europe/Berlin
END:VTIMEZONE
BEGIN:VEVENT
UID:69e7ffb84714f
LOCATION:Bramfelder Straße 9, 22305 Hamburg
SUMMARY;ENCODING=QUOTED-PRINTABLE:Wohin mit dem Elefanten? - Ein Spiel ohne Worte auf kleinstem Raum
DESCRIPTION;ENCODING=QUOTED-PRINTABLE:kirschkern & compes & Co.=0D=0A=0D=0AWas machen zwei wunderliche Typen auf einem kleinen Fleck irgendwo im=0D=0ANirgendwo? Sie erspielen sich die Welt. Dort lebt auch ein Elefant -=0D=0Aein kleiner Spielzeug-Elefant. Mit ihm werden sie zu Dickhäutern mit=0D=0Agroßen Ohren und langen Rüsseln, die durch die weite Ebene schreiten=0D=0Aund im Zirkus trompeten. Aber da gibt es noch mehr: Ein Paket! Zwei,=0D=0Adrei, sogar ganz viele!! Jetzt wird getrommelt und gebaut, gestapelt=0D=0Aund getanzt. Und der Elefant? Ist auf einmal weg! Oh Schreck!=0D=0A
URL;VALUE=URI:https://hamburgwhl.infomaxnet.de/standard_widget_de/e-wohin-mit-dem-elefanten-ein-spiel-ohne-worte-auf-kleinstem-raum-2?eventDateId=29626828&widgetToken=22vcqFKw4GE.&
CLASS:PUBLIC
DTSTART:20260421T100000
DTSTAMP:20260422T005240
END:VEVENT
END:VCALENDAR