BEGIN:VCALENDAR
VERSION:2.0
PRODID:http://www.infomax-online.de/imxeventmanager/
METHOD:PUBLISH
BEGIN:VTIMEZONE
TZID:Europe/Berlin
TZURL:http://tzurl.org/zoneinfo-outlook/Europe/Berlin
X-LIC-LOCATION:Europe/Berlin
END:VTIMEZONE
BEGIN:VEVENT
UID:69e63092a7f49
LOCATION:Linnering 1, 22299 Hamburg
SUMMARY;ENCODING=QUOTED-PRINTABLE:Schwarze Löcher - Mysteriöse Giganten im All
DESCRIPTION;ENCODING=QUOTED-PRINTABLE:Eine Veranstaltung der Reihe Schwarze Löcher - Mysteriöse Giganten=0D=0Aim All | Planetarium Hamburg=0D=0A=0D=0AWas sind Schwarze Löcher? Warum gibt es sie? Welche Geheimnisse=0D=0Averbergen sie? Diese Fragen führen uns an die Grenzen des=0D=0Amenschlichen Wissens und darüber hinaus. Vor einigen Jahrzehnten war=0D=0Adie Existenz Schwarzer Löcher Gegenstand wilder Spekulationen. Heute=0D=0Awissen wir, dass sie real und außergewöhnlich sind.=0D=0A=0D=0ADiese unsichtbaren Riesen verzerren die Raumzeit, verschlingen Sterne=0D=0Aund senden Wellen durch das Gefüge des Universums –=0D=0AGravitationswellen, die wir hier auf der Erde feststellen können. Von=0D=0Awinzigen, schnell verschwindenden Punkten bis hin zu kolossalen=0D=0AGiganten im Zentrum von Galaxien gibt es Schwarze Löcher in allen=0D=0AGrößen und Erscheinungsformen. Eines ist faszinierender als das=0D=0Aandere. Die Rätsel der Schwarzen Löcher zu entschlüsseln, ist eine=0D=0Ader größten Herausforderungen der Menschheit und erfordert unsere=0D=0Abesten Köpfe und modernste Technologie. Dabei werden die Geheimnisse=0D=0Aunseres Kosmos gelüftet und seine Vergangenheit, Gegenwart und=0D=0AZukunft beleuchtet.=0D=0A=0D=0ABereiten Sie sich auf ein Abenteuer vor, das unser Verständnis von=0D=0ARaum, Zeit und Schwerkraft auf die Probe stellt. Sind Sie bereit, ins=0D=0AUnbekannte einzutauchen? Das Universum erwartet Sie!=0D=0A
URL;VALUE=URI:https://hamburgwhl.infomaxnet.de/standard_widget_de/e-schwarze-loecher-mysterioese-giganten-im-all?eventDateId=29625736&widgetToken=22vcqFKw4GE.&
CLASS:PUBLIC
DTSTART:20260421T174500
DTSTAMP:20260420T155634
END:VEVENT
END:VCALENDAR