BEGIN:VCALENDAR
VERSION:2.0
PRODID:http://www.infomax-online.de/imxeventmanager/
METHOD:PUBLISH
BEGIN:VTIMEZONE
TZID:Europe/Berlin
TZURL:http://tzurl.org/zoneinfo-outlook/Europe/Berlin
X-LIC-LOCATION:Europe/Berlin
END:VTIMEZONE
BEGIN:VEVENT
UID:69ea16f545ad4
LOCATION:Am Gojenboom 46, 22111 Hamburg
SUMMARY;ENCODING=QUOTED-PRINTABLE:Verlor'n in Horn?
DESCRIPTION;ENCODING=QUOTED-PRINTABLE:Gemeinsam sind wir weniger allein. Kommt einfach vorbei, ob mit oder=0D=0Aohne Schläger! =0D=0ADu hast auch keine Lust weit zu fahren, um etwas Gesellschaft zu=0D=0Agenießen? =0D=0ADann solltest du an donnerstags vorbeikommen. =0D=0A=0D=0AIn den dunklen Monaten spielen wir in Saal 1 (Oktober-März)=0D=0A=0D=0A& an jedem 3. Donnerstag findet zeitgleich ein Plenum statt, um als=0D=0AGemeinschaft weitere Ideen auszutauschen, wie wir unseren Stadtteil=0D=0Abeleben können und möchten. =0D=0A=0D=0A =0D=0A=0D=0ASpeak friend and enter.=0D=0A
URL;VALUE=URI:https://hamburgwhl.infomaxnet.de/standard_widget_de/e-verlorn-in-horn-1-1?eventDateId=29614572&widgetToken=22vcqFKw4GE.&
CLASS:PUBLIC
DTSTART:20260423T183000
DTSTAMP:20260423T145621
END:VEVENT
END:VCALENDAR