BEGIN:VCALENDAR
VERSION:2.0
PRODID:http://www.infomax-online.de/imxeventmanager/
METHOD:PUBLISH
BEGIN:VTIMEZONE
TZID:Europe/Berlin
TZURL:http://tzurl.org/zoneinfo-outlook/Europe/Berlin
X-LIC-LOCATION:Europe/Berlin
END:VTIMEZONE
BEGIN:VEVENT
UID:69ea14a563e87
LOCATION:Am Gojenboom 46, 22111 Hamburg
SUMMARY;ENCODING=QUOTED-PRINTABLE:Rollenspieltreff SDNV e.V.
DESCRIPTION;ENCODING=QUOTED-PRINTABLE:ROLLENSPIELTREFF=0D=0A=0D=0APen-&-Paper-Rollenspiele aller Art. Unter uns finden sich Spielleiter=0D=0Afür alle möglichen Spielwelten: Shadowrun, Fate, DSA, Midgard, D&D=0D=0Auvm. Wenn du wissen willst, was für Runden gerade laufen und ob du=0D=0Anoch irgendwo einsteigen kannst, lohnt sich ein Blick in unser Forum.=0D=0A=0D=0AOb Drachenzähmerin, Zwergenschmied, Raumkapitän oder Straßenmagier=0D=0A- beim Rollenspieltreff kommen Held*innen aller Art zusammen. Hier=0D=0Atreffen sich Fantasy-Fans, um gemeinsam in fantastische Welten=0D=0Aabzutauchen. Anfänger*innen willkommen, Würfel bereit - gespielt=0D=0Awird, was Spaß macht. Bring deine Lieblingssysteme mit oder lass dich=0D=0Ain neue Abenteuer entführen. Keine Pflicht, nur Leidenschaft.=0D=0A=0D=0AWillkommen am Tisch der Unendlichkeit!=0D=0A=0D=0AWO UND WANN WIRD GESPIELT?=0D=0A=0D=0A =0D=0A=0D=0AWir treffen uns zwei Mal die Woche an zwei unterschiedlichen Orten:=0D=0A=0D=0A	* Mittwochs ab 18 Uhr in der Horner Freiheit, wo uns im ersten Stock=0D=0Aaktuell ein Raum für etwa zwei Spielrunden zur Verfügung steht.=0D=0A=0D=0A =0D=0A=0D=0AMehr Infos auf sdnv.de [https://www.sdnv.de]=0D=0A=0D=0A =0D=0A
URL;VALUE=URI:https://hamburgwhl.infomaxnet.de/standard_widget_de/e-rollenspieltreff-sdnv-ev?eventDateId=29614496&widgetToken=22vcqFKw4GE.&
CLASS:PUBLIC
DTSTART:20260429T180000
DTSTAMP:20260423T144629
END:VEVENT
END:VCALENDAR