BEGIN:VCALENDAR
VERSION:2.0
PRODID:http://www.infomax-online.de/imxeventmanager/
METHOD:PUBLISH
BEGIN:VTIMEZONE
TZID:Europe/Berlin
TZURL:http://tzurl.org/zoneinfo-outlook/Europe/Berlin
X-LIC-LOCATION:Europe/Berlin
END:VTIMEZONE
BEGIN:VEVENT
UID:69e6cba361251
LOCATION:Jachthafen , 23743 Grömitz
SUMMARY;ENCODING=QUOTED-PRINTABLE:Steilküsten-Entdeckungstour - "Best of Baltic"
DESCRIPTION;ENCODING=QUOTED-PRINTABLE:Die Steilküsten-Entdeckungstour hält zahlreiche interessante=0D=0AEntdeckungen bereit, die es zu sehen, finden und erfahren gilt. Die=0D=0ANaturführerin Petra Sievers analysiert und bestimmt Fundstücke wie=0D=0AFossilien direkt vor Ort. Keine Anmeldung erforderlich. "Die=0D=0AVeranstaltung findet im Rahmen des Projektes Best of Baltic statt, um=0D=0Agemeinsam mit kleinen Schritten die Welt ein Stückchen besser zu=0D=0Amachen. Mehr Infos unter www.best-of-baltic.com"=0D=0A
URL;VALUE=URI:https://hamburgwhl.infomaxnet.de/standard_widget_de/e-steilkuesten-entdeckungstour-154?eventDateId=29614470&widgetToken=22vcqFKw4GE.&
CLASS:PUBLIC
DTSTART:20260427T100000
DTSTAMP:20260421T025811
END:VEVENT
END:VCALENDAR