BEGIN:VCALENDAR
VERSION:2.0
PRODID:http://www.infomax-online.de/imxeventmanager/
METHOD:PUBLISH
BEGIN:VTIMEZONE
TZID:Europe/Berlin
TZURL:http://tzurl.org/zoneinfo-outlook/Europe/Berlin
X-LIC-LOCATION:Europe/Berlin
END:VTIMEZONE
BEGIN:VEVENT
UID:69eafc05b1f2a
LOCATION:Harvestehuder Weg 12, 20148 Hamburg
SUMMARY;ENCODING=QUOTED-PRINTABLE:Windfuhrs Werkstattkonzert #5
DESCRIPTION;ENCODING=QUOTED-PRINTABLE:Eine Veranstaltung der Reihe Windfuhrs Werkstattkonzerte mit den=0D=0ASymphonikern Hamburg=0D=0A=0D=0AWindfuhrs Werkstattkonzerte mit den Symphonikern Hamburg=0D=0A
URL;VALUE=URI:https://hamburgwhl.infomaxnet.de/standard_widget_de/e-windfuhrs-werkstattkonzert-5?eventDateId=29613809&widgetToken=22vcqFKw4GE.&
CLASS:PUBLIC
DTSTART:20260430T193000
DTSTAMP:20260424T071341
END:VEVENT
END:VCALENDAR