BEGIN:VCALENDAR
VERSION:2.0
PRODID:http://www.infomax-online.de/imxeventmanager/
METHOD:PUBLISH
BEGIN:VTIMEZONE
TZID:Europe/Berlin
TZURL:http://tzurl.org/zoneinfo-outlook/Europe/Berlin
X-LIC-LOCATION:Europe/Berlin
END:VTIMEZONE
BEGIN:VEVENT
UID:69e9a64916569
LOCATION:Dorothea-Kasten-Straße 5, 22297 Hamburg
SUMMARY;ENCODING=QUOTED-PRINTABLE:Gottesdienst in St. Nicolaus
DESCRIPTION;ENCODING=QUOTED-PRINTABLE:Jeden Sonntag wird in der Kirche St. Nicolaus der Gottesdienst=0D=0Agefeiert. Die Kirche gehört zur Evangelischen Stiftung Alsterdorf und=0D=0Aist somit nicht Teil eines Kirchenkreises - also keine klassische=0D=0AGemeinde, sondern eine Gemeinschaft.=0D=0A=0D=0ADie Gemeinschaft, die sich jeden Sonntag in der Kirche zum=0D=0AGottesdienst versammelt, zeichnet sich durch ihre Offenheit aus. Die=0D=0ABesucher*innen kommen teilweise schon seit Jahrzehnten in die Kirche,=0D=0Aaber auch Patient*innen aus dem benachbarten Evangelischen Krankenhaus=0D=0AAlsterdorf feiern mit. Alle sind willkommen!=0D=0A=0D=0AInklusion zu leben steht hier im Vordergrund. Die helle und=0D=0Alichtdurchflutete Kirche ist barrierefrei und bereit für jede*n=0D=0AGottesdienstbesucher*in.=0D=0A
URL;VALUE=URI:https://hamburgwhl.infomaxnet.de/standard_widget_de/e-gottesdienst-in-st-nicolaus-3?eventDateId=29610906&widgetToken=22vcqFKw4GE.&
CLASS:PUBLIC
DTSTART:20260426T110000
DTSTAMP:20260423T065537
END:VEVENT
END:VCALENDAR