BEGIN:VCALENDAR
VERSION:2.0
PRODID:http://www.infomax-online.de/imxeventmanager/
METHOD:PUBLISH
BEGIN:VTIMEZONE
TZID:Europe/Berlin
TZURL:http://tzurl.org/zoneinfo-outlook/Europe/Berlin
X-LIC-LOCATION:Europe/Berlin
END:VTIMEZONE
BEGIN:VEVENT
UID:69e787456ceed
LOCATION:Lange Straße 38, 21640 Horneburg
SUMMARY;ENCODING=QUOTED-PRINTABLE:Schwangerenberatung
DESCRIPTION;ENCODING=QUOTED-PRINTABLE:Die Diakonie Buxtehude gibt schwangeren Frauen die Möglichkeit, sich=0D=0Aumfassend über soziale, gesundheitliche und psychologische Aspekte=0D=0Avon Schwangerschaft, Geburt und Elternschaft, staatliche=0D=0ASozialleistungen und deren Beantragung, medizinische=0D=0AVorsorgeuntersuchungen, Hebammenhilfe, Kursangebote für Schwangere,=0D=0AMütter und Väter, Rechte als Arbeitnehmerin gegenüber des=0D=0AArbeitgebers oder/und über Pränataldiagnostik (vorgeburtliche=0D=0AUntersuchungen) zu informieren. Außerdem unterstützt die Diakonie=0D=0ABuxtehude bei der Beantragung von finanziellen Hilfen.=0D=0A=0D=0ADie Beratung ist kostenlos und unabhängig von Konfession und=0D=0ANationalität.=0D=0A=0D=0AAlle Gespräche und Informationen sind vertraulich und unterliegen der=0D=0ASchweigepicht!=0D=0A=0D=0AKontakt Diakonie Buxtehude Tel.: 04161 644446=0D=0A=0D=0A =0D=0A=0D=0AANMELDUNG UNBEDINGT ERFORDERLICH!=0D=0A
URL;VALUE=URI:https://hamburgwhl.infomaxnet.de/standard_widget_de/e-schwangerenberatung?eventDateId=29603194&widgetToken=22vcqFKw4GE.&
CLASS:PUBLIC
DTSTART:20260428T090000
DTSTAMP:20260421T161845
END:VEVENT
END:VCALENDAR