BEGIN:VCALENDAR
VERSION:2.0
PRODID:http://www.infomax-online.de/imxeventmanager/
METHOD:PUBLISH
BEGIN:VTIMEZONE
TZID:Europe/Berlin
TZURL:http://tzurl.org/zoneinfo-outlook/Europe/Berlin
X-LIC-LOCATION:Europe/Berlin
END:VTIMEZONE
BEGIN:VEVENT
UID:69e60226bd4c1
LOCATION:Lange Straße 38, 21640 Horneburg
SUMMARY;ENCODING=QUOTED-PRINTABLE:Cafe "Zeitlos"
DESCRIPTION;ENCODING=QUOTED-PRINTABLE:Ein Treffen der Selbsthilfegruppe für Angehörige und Pflegende von=0D=0ADemenz- und Alzheimer-Erkrankten im Mehrgenerationenhaus Horneburg.=0D=0AAngehörige und Erkrankte sind herzlich willkommen. Es wird zusammen=0D=0Amit den Erkrankten gefrühstückt, bevor dann Erfahrungen ausgetauscht=0D=0Awerden können und Rat und Hilfestellung gegeben wird. Für Betreuung=0D=0Aist gesorgt.=0D=0A=0D=0AAnsprechpartnerin für das Treffen ist Frau Lisa Sitz unter der=0D=0ATel.Nr. 04144 -5748.=0D=0A=0D=0AANMELDUNG ERFORDERLICH=0D=0A=0D=0A =0D=0A
URL;VALUE=URI:https://hamburgwhl.infomaxnet.de/standard_widget_de/e-cafe-zeitlos-1?eventDateId=29602583&widgetToken=22vcqFKw4GE.&
CLASS:PUBLIC
DTSTART:20260420T094500
DTSTAMP:20260420T123830
END:VEVENT
END:VCALENDAR