BEGIN:VCALENDAR
VERSION:2.0
PRODID:http://www.infomax-online.de/imxeventmanager/
METHOD:PUBLISH
BEGIN:VTIMEZONE
TZID:Europe/Berlin
TZURL:http://tzurl.org/zoneinfo-outlook/Europe/Berlin
X-LIC-LOCATION:Europe/Berlin
END:VTIMEZONE
BEGIN:VEVENT
UID:69ead0454612b
LOCATION:Beer-Yaacov-Weg 1, 23843 Bad Oldesloe
SUMMARY;ENCODING=QUOTED-PRINTABLE:Kino am Nachmittag: Toni und Helene
DESCRIPTION;ENCODING=QUOTED-PRINTABLE:Ob launige Komödien, berührende Filmgeschichten oder zeitlose=0D=0AKlassiker: Einmal im Monat flimmern handverlesene Filme über die=0D=0ALeinwand im barrierefreien KuB-Saal. Lassen Sie sich vor oder nach der=0D=0AVorführung mit Kaffee und Kuchen im „Café Eigenart“ verwöhnen,=0D=0Aund kommen Sie miteinander ins Gespräch.=0D=0A=0D=0ADie einst gefeierte Theaterdiva Helene und die ruppige Ex-Pflegerin=0D=0AToni=0D=0Aleben in einer Seniorenresidenz. Sie könnten kaum unterschiedlicher=0D=0Asein: Helene kontrolliert ihre Ängste, Toni versteckt Frustrationen=0D=0Ahinter Witzen oder Schnaps. Gemeinsam reisen sie zur Sterbehilfe in=0D=0Adie Schweiz.=0D=0A=0D=0A
URL;VALUE=URI:https://hamburgwhl.infomaxnet.de/standard_widget_de/e-kino-am-nachmittag-toni-und-helene?eventDateId=29589217&widgetToken=22vcqFKw4GE.&
CLASS:PUBLIC
DTSTART:20260428T150000
DTSTAMP:20260424T040701
END:VEVENT
END:VCALENDAR