BEGIN:VCALENDAR
VERSION:2.0
PRODID:http://www.infomax-online.de/imxeventmanager/
METHOD:PUBLISH
BEGIN:VTIMEZONE
TZID:Europe/Berlin
TZURL:http://tzurl.org/zoneinfo-outlook/Europe/Berlin
X-LIC-LOCATION:Europe/Berlin
END:VTIMEZONE
BEGIN:VEVENT
UID:69eb9c59379aa
LOCATION:Hamburger Straße 81, 23795 Bad Segeberg
SUMMARY;ENCODING=QUOTED-PRINTABLE:Riesen Flohmarkt bei Möbel Kraft
DESCRIPTION;ENCODING=QUOTED-PRINTABLE: =0D=0A=0D=0AWie wäre es mit einem Bummel über unseren Flohmarkt mit=0D=0Aeinzigartiger Atmosphäre? Diese Gelegenheit haben Sie in Bad=0D=0ASegeberg.  =0D=0A=0D=0AZwischen getragenen Sachen, wirrem Menschengetummel und dem Duft nach=0D=0ABratwurst, Fritten und Süßigkeiten liegen sie, die Schätze, die=0D=0AGeschichten erzählen und nur auf ihren Finder warten. Also Termine=0D=0Avormerken und dabei sein. Das besondere Sammelstück wartet schon auf=0D=0ASie.=0D=0A=0D=0AKartenvorverkauf 10 Tage vor dem Flohmarkt=0D=0AVor dem Eingangsbereich Möbel Kraft=0D=0A=0D=0A =0D=0A
URL;VALUE=URI:https://hamburgwhl.infomaxnet.de/standard_widget_de/e-riesen-flohmarkt-bei-moebel-kraft?eventDateId=29587161&widgetToken=22vcqFKw4GE.&
CLASS:PUBLIC
DTSTART:20260426T080000
DTSTAMP:20260424T183745
END:VEVENT
END:VCALENDAR