BEGIN:VCALENDAR
VERSION:2.0
PRODID:http://www.infomax-online.de/imxeventmanager/
METHOD:PUBLISH
BEGIN:VTIMEZONE
TZID:Europe/Berlin
TZURL:http://tzurl.org/zoneinfo-outlook/Europe/Berlin
X-LIC-LOCATION:Europe/Berlin
END:VTIMEZONE
BEGIN:VEVENT
UID:69ea146d832a1
LOCATION:Am Gojenboom 46, 22111 Hamburg
SUMMARY;ENCODING=QUOTED-PRINTABLE:Kleiderkammer
DESCRIPTION;ENCODING=QUOTED-PRINTABLE:Hier erhalten Menschen mit geringem Einkommen gut erhaltene und=0D=0Aneuwertige Kleidung. Unser Angebot umfasst Bekleidung für Erwachsene=0D=0Aund Kinder, sowie Haushaltstextilien. Vor Ort erhalten Sie (nach=0D=0APrüfung der Bedürftigkeit) eine Kundenkarte mit der Sie für=0D=0A"kleines Geld" in den Ausgabestellen der Kleiderkammer Wilhelmsburg=0D=0Aeinkaufen können.=0D=0A
URL;VALUE=URI:https://hamburgwhl.infomaxnet.de/standard_widget_de/e-kleiderkammer-2?eventDateId=29575278&widgetToken=22vcqFKw4GE.&
CLASS:PUBLIC
DTSTART:20260429T140000
DTSTAMP:20260423T144533
END:VEVENT
END:VCALENDAR