BEGIN:VCALENDAR
VERSION:2.0
PRODID:http://www.infomax-online.de/imxeventmanager/
METHOD:PUBLISH
BEGIN:VTIMEZONE
TZID:Europe/Berlin
TZURL:http://tzurl.org/zoneinfo-outlook/Europe/Berlin
X-LIC-LOCATION:Europe/Berlin
END:VTIMEZONE
BEGIN:VEVENT
UID:69e903969937f
LOCATION:Große Freiheit 64, 22767 Hamburg
SUMMARY;ENCODING=QUOTED-PRINTABLE:English Comedy Grand Slam
DESCRIPTION;ENCODING=QUOTED-PRINTABLE:Eine Veranstaltung der Reihe Dark Comedy Matters - Burning Mic Comedy=0D=0AShow=0D=0A=0D=0AGet ready for a night of laughter that’s as dark as your sense of=0D=0Ahumor! Join us at the iconic Indra Music Club in Hamburg every second=0D=0ATuesday of the month for Dark Comedy Matters, the ultimate comedy show=0D=0Athat delves into the more twisted, hilarious corners of comedy.=0D=0A=0D=0ADark Comedy Matters brings together a lineup of the boldest comedians=0D=0Awho aren’t afraid to tackle the taboo, the controversial, and the=0D=0Adownright dark. This is comedy with an edge, where no topic is=0D=0Aoff-limits, and no joke is too daring. If you like your humor with a=0D=0Aside of audacity, this is the show for you.=0D=0A=0D=0AExpect an evening of sharp wit, unexpected punchlines, and plenty of=0D=0Amoments that will have you laughing, gasping, and maybe even=0D=0Aquestioning your own moral compass. Each month features new acts and=0D=0Afresh material, ensuring that every show is a unique experience.=0D=0A=0D=0AWhy You Should Attend:=0D=0A=0D=0A• Top-notch Comedians: Featuring some of the best dark humorists=0D=0Afrom around the globe.=0D=0A=0D=0A• Unique Theme: A fresh take on comedy that explores the darker side=0D=0Aof humor.=0D=0A=0D=0A• Great Atmosphere: Enjoy the cozy and historic setting of Indra=0D=0AMusic Club, the perfect venue for an intimate comedy night.=0D=0A
URL;VALUE=URI:https://hamburgwhl.infomaxnet.de/standard_widget_de/e-english-comedy-grand-slam-1?eventDateId=29573952&widgetToken=22vcqFKw4GE.&
CLASS:PUBLIC
DTSTART:20260428T200000
DTSTAMP:20260422T192126
END:VEVENT
END:VCALENDAR