BEGIN:VCALENDAR
VERSION:2.0
PRODID:http://www.infomax-online.de/imxeventmanager/
METHOD:PUBLISH
BEGIN:VTIMEZONE
TZID:Europe/Berlin
TZURL:http://tzurl.org/zoneinfo-outlook/Europe/Berlin
X-LIC-LOCATION:Europe/Berlin
END:VTIMEZONE
BEGIN:VEVENT
UID:69ea5986086a2
LOCATION:Berner Heerweg 183, 22159 Hamburg
SUMMARY;ENCODING=QUOTED-PRINTABLE:Einführung ins Lachyoga
DESCRIPTION;ENCODING=QUOTED-PRINTABLE:Lernen Sie Lachyoga kennen und erleben Sie gemeinsames Lachen ohne=0D=0AWenn und Aber. Lachen ist eine wertvolle Möglichkeit, um für einen=0D=0AMoment die Gedanken loszulassen, innezuhalten und neue Kraft zu=0D=0Aschöpfen. Wir tauchen nicht nur in die Theorie des Lachyogas ein,=0D=0Asondern erleben in zahlreichen Übungen auch die kraftvolle Energie=0D=0Ades Lachens.=0D=0A
URL;VALUE=URI:https://hamburgwhl.infomaxnet.de/standard_widget_de/e-einfuehrung-ins-lachyoga-6?eventDateId=29561172&widgetToken=22vcqFKw4GE.&
CLASS:PUBLIC
DTSTART:20260425T100000
DTSTAMP:20260423T194022
END:VEVENT
END:VCALENDAR