BEGIN:VCALENDAR
VERSION:2.0
PRODID:http://www.infomax-online.de/imxeventmanager/
METHOD:PUBLISH
BEGIN:VTIMEZONE
TZID:Europe/Berlin
TZURL:http://tzurl.org/zoneinfo-outlook/Europe/Berlin
X-LIC-LOCATION:Europe/Berlin
END:VTIMEZONE
BEGIN:VEVENT
UID:69e536e33f64f
LOCATION:Madsow 1, 23974 Neuburg
SUMMARY;ENCODING=QUOTED-PRINTABLE:Workshop und Ferienkurse Malerei
DESCRIPTION;ENCODING=QUOTED-PRINTABLE:Veranstaltungen wie Kunst Offen, Offene Gärten, Oster- und=0D=0AAdventsmarkt, Kunsthandwerkermarkt "Mamerow und Freunde" Individuelle=0D=0ATermine nach persönlicher Absprache. Workshops für Erwachsene und=0D=0AFerienkurse=0D=0A=0D=0AIm Kunstgarten Madsow finden unsere Veranstaltungen wie ein kleiner=0D=0AOster- und Adventsmarkt statt. Außerdem nehmen wir an Kunst Offen=0D=0Ateil und laden dazu Künstler zu uns ein, damit es für die Besucher=0D=0Anoch interessanter wird. Das gleiche trifft auf unseren=0D=0AKunsthandwerkermarkt "Mamerow und Freunde" zu.=0D=0ABei Veranstaltung wird an unserer "Unverzicht-Bar" mit selbstgemachten=0D=0AKuchen, Torten und herzhaften Speisen für das leibliche Wohl gesorgt.=0D=0AIn den Sitzgruppen können sie die idyllische Atmosphäre des=0D=0AGrundstücks am Feldrand genießen.=0D=0A=0D=0AVom 1.Mai bis 30. September 2026 ist das Atelier mit Malerei, Filz,=0D=0Ahandgemachtem Modeschmuck, Karten, Textiles... jeden Sonntag von 11.00=0D=0AUhr bis 18.00 Uhr geöffnet.=0D=0AOb ein Treffen mit Freundinnen, Geburtstagsfeier, Teambildung oder=0D=0Aandere Anlässe, für einen kreativen und malerisch schönen=0D=0ANachmittag, stehen wir Ihnen zur Verfügung.=0D=0A=0D=0AWorkshops 1. Halbjahr 2026=0D=0AAnmeldung: 01729152915=0D=0ADie Kosten für den Workshop beinhalten=0D=0Aimmer Materialkosten, Imbiss u. Kaffee.=0D=0AZeit: 10.00 Uhr bis max. 16.00 Uhr=0D=0A=0D=0ANEUJAHRSWORKSHOP AM SONNTAG 18.01.26=0D=0AThema: Prosit Neujahr=0D=0ACocktail, Wein , Cuba Libre Gin Tonic, Whiskey o.ö.=0D=0AAcrylmalerei auf Leinwand, Größe: 40 x 50 cm=0D=0Aje 50 € pro Teilnehmer=0D=0A=0D=0ASONNTAG 15.02.26=0D=0AThema: Edler Schimmer - Eleganter Glanz=0D=0Aabstrakte Malerei, mit Gold, Silber... + Seidenpapier=0D=0AAcrylmalerei auf Leinwand, Größe 40 x 50 cm=0D=0Aje 55 € pro Teilnehmer=0D=0A=0D=0ASONNTAG 29.03.26=0D=0AThema: Frühlingserwachen und Entspannung=0D=0Avon Mandelbäumchen bis Blumenwiese=0D=0Aabstrakte Malerei bis figürliche Elemente=0D=0AAcrylmalerei auf Leinwand 50 x 50 cm=0D=0ASONNTAG 19.04.26 - Format 40 x 50=0D=0ASONNTAG 31.05.26 - Format 60 x 80 im Garten=0D=0Anähere Angaben folgen=0D=0A
URL;VALUE=URI:https://hamburgwhl.infomaxnet.de/standard_widget_de/e-workshops-und-ferienkurse-malerei?eventDateId=29558739&widgetToken=22vcqFKw4GE.&
CLASS:PUBLIC
DTSTART:20260419T100000
DTSTAMP:20260419T221115
END:VEVENT
END:VCALENDAR