BEGIN:VCALENDAR
VERSION:2.0
PRODID:http://www.infomax-online.de/imxeventmanager/
METHOD:PUBLISH
BEGIN:VTIMEZONE
TZID:Europe/Berlin
TZURL:http://tzurl.org/zoneinfo-outlook/Europe/Berlin
X-LIC-LOCATION:Europe/Berlin
END:VTIMEZONE
BEGIN:VEVENT
UID:69e8f4f8ab798
LOCATION:Franzosenweg , 19053 Schwerin
SUMMARY;ENCODING=QUOTED-PRINTABLE:Sweeney Todd
DESCRIPTION;ENCODING=QUOTED-PRINTABLE:Sweeney Todd - Premiere 20. Februar 2026=0D=0A=0D=0A_„Rache ist ein Gericht, das man kalt serviert.“_=0D=0A=0D=0ABenjamin Barker kehrt nach Jahren der Verbannung zurück nach London=0D=0A– mit neuem Namen und düsteren Absichten. Als Sweeney Todd=0D=0Aeröffnet er in der Fleet Street einen Herrensalon über der Bäckerei=0D=0Avon Mrs. Lovett. Er will sich an Richter Turpin rächen, der ihn einst=0D=0Azu Unrecht nach Australien deportieren ließ, um sich seine Frau und=0D=0Aseine Tochter unter den Nagel zu reißen. Todds Rasiermesser soll=0D=0ATurpin ins Jenseits befördern. Das makabre Geschäftsmodell, das er=0D=0Agemeinsam mit Mrs. Lovett entwickelt, kommt ihm dabei gerade recht:=0D=0AFrisch rasiert ist halb serviert. Die Kunden, die in Todds=0D=0ABarbierstuhl Platz nehmen, landen eine Etage tiefer – in Mrs.=0D=0ALovetts Fleischpasteten, die sich bald größter Beliebtheit erfreuen.=0D=0AWährend draußen Bettler:innen durch die Gassen streichen und=0D=0AMatrosen ihre Liebe besingen, zieht bei dem Barbier der Wahnsinn ein=0D=0A– und reißt alles mit sich.=0D=0A=0D=0AStephen Sondheim kreierte mit _Sweeney Todd _ein vielschichtiges=0D=0AWerk voll schwarzem_ _Humor und bissiger Gesellschaftskritik,=0D=0Adessen_ _Klangwelt von musikalischer Miniatur_ _bis hin zu=0D=0Aopernhafter Wucht reicht. Seit_ _seiner Uraufführung 1979 am=0D=0ABroadway gilt_ _es als Meilenstein des modernen Musiktheaters._ _Vom=0D=0AKomponisten selbst als „schwarze_ _Operette“ bezeichnet, gewährt=0D=0Adas Stück tiefe_ _Einblicke in Todds Verwandlung vom Opfer_ _zum=0D=0ATäter.=0D=0A
URL;VALUE=URI:https://hamburgwhl.infomaxnet.de/standard_widget_de/e-sweeney-todd-6?eventDateId=29542730&widgetToken=22vcqFKw4GE.&
CLASS:PUBLIC
DTSTART:20260422T190000
DTSTAMP:20260422T181904
END:VEVENT
END:VCALENDAR