BEGIN:VCALENDAR
VERSION:2.0
PRODID:http://www.infomax-online.de/imxeventmanager/
METHOD:PUBLISH
BEGIN:VTIMEZONE
TZID:Europe/Berlin
TZURL:http://tzurl.org/zoneinfo-outlook/Europe/Berlin
X-LIC-LOCATION:Europe/Berlin
END:VTIMEZONE
BEGIN:VEVENT
UID:69e828d0df59b
LOCATION:Johannes-Brahms-Platz , 20355 Hamburg
SUMMARY;ENCODING=QUOTED-PRINTABLE:Orchester’91 / Jan Polle / Emanuel Dantscher
DESCRIPTION;ENCODING=QUOTED-PRINTABLE:Das Orchester’91 präsentiert unter der Leitung seines Dirigenten=0D=0AEmanuel Dantscher Werke der deutschen Romantik, die nicht nur durch=0D=0Abesondere Hornklänge miteinander verbunden sind. Mit der Ouvertüre=0D=0Azu Carl Maria von Webers »Freischütz« beginnt der Abend mit=0D=0Aschwungvollen Melodien – unter anderem in den Hörnern – aus jenem=0D=0Aromantischen Bühnenwerk, das stilistisch die »Deutsche Oper«=0D=0Abegründete.=0D=0A=0D=0AEs folgt Richard Strauss’ Hornkonzert Nr. 1, mit dem der erst=0D=0A18-jährige Komponist die musikalische Tradition Webers fortführt:=0D=0AHeroische Kraft und spätromantische Wärme stehen hier nebeneinander.=0D=0AInterpretiert wird der Solopart von Jan Polle, dem stellvertretenden=0D=0ASolohornisten des Philharmonischen Staatsorchesters Hamburg.=0D=0A=0D=0ANach der Pause spielt das Orchester‘91 Anton Bruckners Sinfonie Nr.=0D=0A9, das monumentale und unvollendete Vermächtnis Bruckners. Hier=0D=0Anehmen stellenweise vier Wagnertuben eine zentrale Rolle ein. Sie=0D=0Awerden zusätzlich von der Horngruppe des Orchesters gespielt, sodass=0D=0Aein achtfacher Hörner-/Wagnertuben-Satz für besonders romantische=0D=0AKlänge sorgt. Die Sinfonie zeigt in ihrer unvollendeten Gestalt den=0D=0AWeg von der Spätromantik in die Moderne, deutlich zu hören an der=0D=0Ains 20. Jahrhundert weisenden Harmonik.=0D=0A=0D=0ABESETZUNG=0D=0A=0D=0AORCHESTER’91 Orchester=0D=0A=0D=0AJAN POLLE Horn=0D=0A=0D=0AEMANUEL DANTSCHER Leitung=0D=0A=0D=0APROGRAMM=0D=0A=0D=0ACARL MARIA VON WEBER=0D=0AOuvertüre zu »Der Freischütz« op. 77=0D=0A=0D=0ARICHARD STRAUSS=0D=0AKonzert für Horn und Orchester Nr. 1 Es-Dur op. 11=0D=0A=0D=0A- Pause -=0D=0A=0D=0AANTON BRUCKNER=0D=0ASinfonie Nr. 9 d-Moll=0D=0A
URL;VALUE=URI:https://hamburgwhl.infomaxnet.de/standard_widget_de/e-orchester91-jan-polle-emanuel-dantscher?eventDateId=29541120&widgetToken=22vcqFKw4GE.&
CLASS:PUBLIC
DTSTART:20260425T200000
DTSTAMP:20260422T034800
END:VEVENT
END:VCALENDAR