BEGIN:VCALENDAR
VERSION:2.0
PRODID:http://www.infomax-online.de/imxeventmanager/
METHOD:PUBLISH
BEGIN:VTIMEZONE
TZID:Europe/Berlin
TZURL:http://tzurl.org/zoneinfo-outlook/Europe/Berlin
X-LIC-LOCATION:Europe/Berlin
END:VTIMEZONE
BEGIN:VEVENT
UID:69e9dd841ffef
LOCATION:Schanzenstraße 75-77, 20357 Hamburg
SUMMARY;ENCODING=QUOTED-PRINTABLE:Zwischen Revolution und Routine: Wie Künstliche Intelligenz unser=0D=0ALeben verändert
DESCRIPTION;ENCODING=QUOTED-PRINTABLE:Zwischen Revolution und Routine: Wie Künstliche Intelligenz unser=0D=0ALeben verändert=0D=0A
URL;VALUE=URI:https://hamburgwhl.infomaxnet.de/standard_widget_de/e-zwischen-revolution-und-routine-wie-ki-unser-leben-veraendert-2?eventDateId=29521097&widgetToken=22vcqFKw4GE.&
CLASS:PUBLIC
DTSTART:20260421T161500
DTSTAMP:20260423T105116
END:VEVENT
END:VCALENDAR