BEGIN:VCALENDAR
VERSION:2.0
PRODID:http://www.infomax-online.de/imxeventmanager/
METHOD:PUBLISH
BEGIN:VTIMEZONE
TZID:Europe/Berlin
TZURL:http://tzurl.org/zoneinfo-outlook/Europe/Berlin
X-LIC-LOCATION:Europe/Berlin
END:VTIMEZONE
BEGIN:VEVENT
UID:69ea5efee198b
LOCATION:Tangstedter Landstraße 83, 22415 Hamburg
SUMMARY;ENCODING=QUOTED-PRINTABLE:Vermieter mit Werten - Zu Besuch beim Verband norddeutscher=0D=0AWohnungsunternehmen e.V.
DESCRIPTION;ENCODING=QUOTED-PRINTABLE:Vermieter mit Werten - Zu Besuch beim Verband norddeutscher=0D=0AWohnungsunternehmen e.V.=0D=0A
URL;VALUE=URI:https://hamburgwhl.infomaxnet.de/standard_widget_de/e-vermieter-mit-werten-zu-besuch-beim-verband-norddeutscher-wohnungsunternehmen-ev?eventDateId=29520669&widgetToken=22vcqFKw4GE.&
CLASS:PUBLIC
DTSTART:20260423T170000
DTSTAMP:20260423T200342
END:VEVENT
END:VCALENDAR