BEGIN:VCALENDAR
VERSION:2.0
PRODID:http://www.infomax-online.de/imxeventmanager/
METHOD:PUBLISH
BEGIN:VTIMEZONE
TZID:Europe/Berlin
TZURL:http://tzurl.org/zoneinfo-outlook/Europe/Berlin
X-LIC-LOCATION:Europe/Berlin
END:VTIMEZONE
BEGIN:VEVENT
UID:69ea2cd7f0515
LOCATION:Berner Heerweg 183, 22159 Hamburg
SUMMARY;ENCODING=QUOTED-PRINTABLE:Kompost aus der Wurmkiste: nachhaltige Erde selbst herstellen mit=0D=0AWurmkompostierung
DESCRIPTION;ENCODING=QUOTED-PRINTABLE:Beste Erde für Ihre Pflanzen können Sie selbst gewinnen: in einer=0D=0AWurmkiste. Eine kompakte Kompostkiste lässt sich mühelos auf dem=0D=0ABalkon, dem Dachboden, im Keller oder sogar in der Küche integrieren=0D=0Aund sorgt für nährstoffreiche Erde - ohne unangenehme Gerüche. In=0D=0Adiesem Kurs erfahren Sie, wie der Kompostierungsprozess im Boden=0D=0Afunktioniert. Was sind die Unterschiede von Bokashi-Eimer und=0D=0AWurmkiste? Und wie lassen sie sich kombinieren? Sie erhalten eine=0D=0Aumfassende Anleitung zum Aufbau Ihrer eigenen Wurmkompostkiste und=0D=0Aerfahren, wie Sie diese erfolgreich betreuen und den wertvollen=0D=0AKompost ernten. Eine erste Kompostkiste im Schuhkarton können Sie im=0D=0AKurs selbst befüllen. Wenn Sie mögen, starten Sie Zuhause sofort Ihr=0D=0Aneues Projekt Wurmkiste: Verwandeln Sie Ihre Küchenabfälle in=0D=0Awertvoll=0D=0A
URL;VALUE=URI:https://hamburgwhl.infomaxnet.de/standard_widget_de/e-kompost-aus-der-wurmkiste-nachhaltige-erde-selbst-herstellen-mit-wurmkompostierung-2?eventDateId=29520594&widgetToken=22vcqFKw4GE.&
CLASS:PUBLIC
DTSTART:20260423T173000
DTSTAMP:20260423T162943
END:VEVENT
END:VCALENDAR