BEGIN:VCALENDAR
VERSION:2.0
PRODID:http://www.infomax-online.de/imxeventmanager/
METHOD:PUBLISH
BEGIN:VTIMEZONE
TZID:Europe/Berlin
TZURL:http://tzurl.org/zoneinfo-outlook/Europe/Berlin
X-LIC-LOCATION:Europe/Berlin
END:VTIMEZONE
BEGIN:VEVENT
UID:69eb0dd37d185
LOCATION:An den Ziegelteichen 5, 21217 Seevetal
SUMMARY;ENCODING=QUOTED-PRINTABLE:Auf die Stille hören
DESCRIPTION;ENCODING=QUOTED-PRINTABLE:Sein – ohne Buch, ohne Internet und Laptop, ohne Handy, ohne=0D=0AFernseher… Geht das überhaupt? Und wozu?=0D=0AWir wollen schweigend dem nachspüren und dabei das Jesusgebet nach=0D=0AFranz Jalics einüben. Gemeinsame Meditationszeiten, Zeit in der=0D=0ANatur, gemeinsame Abendmahlsfeier und Möglichkeit zum persönlichen=0D=0ABegleitgespräch strukturieren den Tag. Der Kurs ist für ungeübte=0D=0Awie geübte Teilnehmer*innen geeignet.=0D=0A=0D=0AANMELDUNG ODER VORVERKAUFSSTELLEN=0D=0A=0D=0Azusätzlich zur Kursgebühr Unterkunft und Verpflegung nach=0D=0ASelbsteinschätzung=0D=0A=0D=0ALEITUNG=0D=0A=0D=0ASchw. Petra Maria Gerber=0D=0A=0D=0AVERANSTALTER=0D=0A=0D=0A	* Evangelische Schwesternschaft Ordo Pacis e.V.=0D=0A[https://www.nordkirche.de/institution/?nkci=7429]=0D=0A=0D=0A
URL;VALUE=URI:https://hamburgwhl.infomaxnet.de/standard_widget_de/e-auf-die-stille-hoeren?eventDateId=29517792&widgetToken=22vcqFKw4GE.&
CLASS:PUBLIC
DTSTART:20260424T150000
DTSTAMP:20260424T082939
END:VEVENT
END:VCALENDAR