BEGIN:VCALENDAR
VERSION:2.0
PRODID:http://www.infomax-online.de/imxeventmanager/
METHOD:PUBLISH
BEGIN:VTIMEZONE
TZID:Europe/Berlin
TZURL:http://tzurl.org/zoneinfo-outlook/Europe/Berlin
X-LIC-LOCATION:Europe/Berlin
END:VTIMEZONE
BEGIN:VEVENT
UID:69e8b5343e6f7
LOCATION:Südstrand 10, 23775 Großenbrode
SUMMARY;ENCODING=QUOTED-PRINTABLE:Shanty-Chor Großenbrode
DESCRIPTION;ENCODING=QUOTED-PRINTABLE:Der Shanty-Chor Großenbrode nimmt uns mit auf seine=0D=0Amaritim-musikalische Reise. Los gehts für alle Seebären und=0D=0ALandratten um 19.30 Uhr im MeerHuus am Großenbroder Südstrand. Der=0D=0AEintritt ist kostenlos.=0D=0A
URL;VALUE=URI:https://hamburgwhl.infomaxnet.de/standard_widget_de/e-shanty-chor-grossenbrode-5?eventDateId=29508098&widgetToken=22vcqFKw4GE.&
CLASS:PUBLIC
DTSTART:20260504T193000
DTSTAMP:20260422T134700
END:VEVENT
END:VCALENDAR