BEGIN:VCALENDAR
VERSION:2.0
PRODID:http://www.infomax-online.de/imxeventmanager/
METHOD:PUBLISH
BEGIN:VTIMEZONE
TZID:Europe/Berlin
TZURL:http://tzurl.org/zoneinfo-outlook/Europe/Berlin
X-LIC-LOCATION:Europe/Berlin
END:VTIMEZONE
BEGIN:VEVENT
UID:69e5d3258e185
LOCATION:Schloßstraße 38, 19288 Ludwigslust
SUMMARY;ENCODING=QUOTED-PRINTABLE:Plattdütsch tau‘n Hoegen un Besinnen
DESCRIPTION;ENCODING=QUOTED-PRINTABLE:Mario Buck (Boizenburg) vertellt eigene Geschichten=0D=0A=0D=0AMario Buck (Boizenburg) vertellt eigene Geschichten=0D=0A=0D=0ADie Johannes Gillhoff Gesellschaft, die Stadtbibliothek Ludwigslust=0D=0Aund die Stiftung Mecklenburg laden am Freitag, 24. April 2026 um=0D=0A15.00 Uhr ein. =0D=0A=0D=0AOrt: Rathaussaal des Rathauses Ludwigslust=0D=0A=0D=0AKontakt: Johannes-Gillhoff-Gesellschaft (Friedensstraße 5, 19303=0D=0APolz, Tel.: 038758 / 35426, www.johannes-gillhoff.de) und=0D=0AStadtbibliothek Ludwigslust (Schloßstraße 38, 19288 Ludwigslust,=0D=0ATel.: 03874 / 526 240, https://bibliothek.ludwigslust.de)=0D=0A=0D=0ATickets sind an der Tageskasse erhältlich.=0D=0A
URL;VALUE=URI:https://hamburgwhl.infomaxnet.de/standard_widget_de/e-plattduetsch-taun-hoegen-un-besinnen-11?eventDateId=29498065&widgetToken=22vcqFKw4GE.&
CLASS:PUBLIC
DTSTART:20260424T150000
DTSTAMP:20260420T091757
END:VEVENT
END:VCALENDAR