BEGIN:VCALENDAR
VERSION:2.0
PRODID:http://www.infomax-online.de/imxeventmanager/
METHOD:PUBLISH
BEGIN:VTIMEZONE
TZID:Europe/Berlin
TZURL:http://tzurl.org/zoneinfo-outlook/Europe/Berlin
X-LIC-LOCATION:Europe/Berlin
END:VTIMEZONE
BEGIN:VEVENT
UID:69ece473398fc
LOCATION:Rennbahnweg , 19288 Ludwigslust
SUMMARY;ENCODING=QUOTED-PRINTABLE:DeepOnTrack 6.0
DESCRIPTION;ENCODING=QUOTED-PRINTABLE:Es erwarten Sie 310 liebevolle umgebaute bzw. modifizierte Fahrzeuge=0D=0Aund ca. 110 Mopeds die in angenehmer Atmosphäre begutachtet werden=0D=0Akönnen.=0D=0A=0D=0ADas DeepOnTrack geht in die 6. Runde! Wir freuen uns, mit euch am=0D=0A25.04.2026 wieder einen tollen Tag verbringen zu können.=0D=0A=0D=0AEs erwarten Sie 310 liebevolle umgebaute bzw. modifizierte Fahrzeuge=0D=0Aund ca. 110 Mopeds die in angenehmer Atmosphäre begutachtet werden=0D=0Akönnen.=0D=0A=0D=0Ahttps://deepontrack.de/=0D=0A=0D=0A =0D=0A
URL;VALUE=URI:https://hamburgwhl.infomaxnet.de/standard_widget_de/e-deepontrack-2024-flutlicht?eventDateId=29498063&widgetToken=22vcqFKw4GE.&
CLASS:PUBLIC
DTSTART:20260425T170000
DTSTAMP:20260425T175739
END:VEVENT
END:VCALENDAR