BEGIN:VCALENDAR
VERSION:2.0
PRODID:http://www.infomax-online.de/imxeventmanager/
METHOD:PUBLISH
BEGIN:VTIMEZONE
TZID:Europe/Berlin
TZURL:http://tzurl.org/zoneinfo-outlook/Europe/Berlin
X-LIC-LOCATION:Europe/Berlin
END:VTIMEZONE
BEGIN:VEVENT
UID:69eb8870922c8
LOCATION: , 23966 Wismar
SUMMARY;ENCODING=QUOTED-PRINTABLE:KinderUni "Was ist eigentlich Strom?"
DESCRIPTION;ENCODING=QUOTED-PRINTABLE:Die Vorlesungen der KinderUni richten sich an Kinder im Alter zwischen=0D=0A8 und 12 Jahren.=0D=0A=0D=0AProf. Dr. Tobias Rösch, Hochschule Wismar, Fakultät für=0D=0AIngenieurwissenschaften/Bereich Elektrotechnik und Informatik =0D=0A=0D=0AInteressierte können sich direkt über das Formular auf der Website=0D=0Ader KinderUni Wismar ( www.hs-wismar.de/kinderuni ), per E-Mail:=0D=0Akinder-uni@hs-wismar.de , telefonisch bei Silke Schröder: 03841=0D=0A753-72 09 oder direkt vor der Vorlesung anmelden. =0D=0ADie Teilnahme ist kostenlos. Eltern, Verwandte und Freunde können wie=0D=0Agewohnt die Vorlesung im Hörsaal 201 mittels Videoübertragung=0D=0Averfolgen. =0D=0AAlle wissbegierigen Kinder zwischen 8 und 12 Jahren können wählen,=0D=0Aob sie die KinderUni-Vorlesung um 15.00 Uhr oder die um 16.30 Uhr=0D=0Abesuche wollen. Anmeldungen sind über die Webseite=0D=0Awww.hs-wismar.de/kinderuni möglich.=0D=0A
URL;VALUE=URI:https://hamburgwhl.infomaxnet.de/standard_widget_de/e-kinderuni-was-ist-eigentlich-strom?eventDateId=29497319&widgetToken=22vcqFKw4GE.&
CLASS:PUBLIC
DTSTART:20260424T150000
DTSTAMP:20260424T171248
END:VEVENT
END:VCALENDAR