BEGIN:VCALENDAR
VERSION:2.0
PRODID:http://www.infomax-online.de/imxeventmanager/
METHOD:PUBLISH
BEGIN:VTIMEZONE
TZID:Europe/Berlin
TZURL:http://tzurl.org/zoneinfo-outlook/Europe/Berlin
X-LIC-LOCATION:Europe/Berlin
END:VTIMEZONE
BEGIN:VEVENT
UID:69eb20a8bf182
LOCATION:Jakobikirchhof 3, 23552 Lübeck
SUMMARY;ENCODING=QUOTED-PRINTABLE:Friedensgebet mit der Versöhnungslitanei aus Coventry, mit=0D=0Aanschließender Kirchenführung
DESCRIPTION;ENCODING=QUOTED-PRINTABLE:St. Marien ist seit 1971 Nagelkreuzzenrum. Die Worte der=0D=0AVersöhnungslitanei verbinden die Menschen, die sich für Frieden,=0D=0AVersöhnung und Bewahrung der Schöpfung einsetzen.=0D=0A=0D=0AVERANSTALTER=0D=0A=0D=0A	* Ev.-Luth. Kirchengemeindeverband Innenstadt Lübeck=0D=0A[https://www.nordkirche.de/institution/?nkci=14100]=0D=0A=0D=0A
URL;VALUE=URI:https://hamburgwhl.infomaxnet.de/standard_widget_de/e-friedensgebet-mit-der-versoehnungslitanei-aus-coventry-mit-anschliessender-kirchenfuehrung-16?eventDateId=29484052&widgetToken=22vcqFKw4GE.&
CLASS:PUBLIC
DTSTART:20260424T120000
DTSTAMP:20260424T095000
END:VEVENT
END:VCALENDAR