BEGIN:VCALENDAR
VERSION:2.0
PRODID:http://www.infomax-online.de/imxeventmanager/
METHOD:PUBLISH
BEGIN:VTIMEZONE
TZID:Europe/Berlin
TZURL:http://tzurl.org/zoneinfo-outlook/Europe/Berlin
X-LIC-LOCATION:Europe/Berlin
END:VTIMEZONE
BEGIN:VEVENT
UID:69e9bc942dc44
LOCATION:Poggenseer Weg 28, 23843 Bad Oldesloe
SUMMARY;ENCODING=QUOTED-PRINTABLE:Kinder- und Jugendtreff HdB
DESCRIPTION;ENCODING=QUOTED-PRINTABLE:Hier im Haus der Begegnung wird gebastelt, Tischtennis, Billiard=0D=0Aund Kicker gespielt, Musik gehört und am PC Zeit verbracht. Im=0D=0AToberaum wird die Hängematte gern genutzt und wir kochen und essen=0D=0Agemeinsam. In den Ferien finden besondere Angebote statt, für die=0D=0Aeine Anmeldung nötig ist.=0D=0A=0D=0ANach der Schule ist hier bei uns der richtige Platz gemeinsam mit=0D=0AFreunden sich zu treffen und zu chillen.=0D=0A=0D=0A =0D=0A=0D=0AVERANSTALTER=0D=0A=0D=0A	* Ev.-Luth. Kirchengemeinde Oldesloe=0D=0A[https://www.nordkirche.de/institution/?nkci=1915]=0D=0A=0D=0A
URL;VALUE=URI:https://hamburgwhl.infomaxnet.de/standard_widget_de/e-kinder-und-jugendtreff-hdb-49?eventDateId=29459374&widgetToken=22vcqFKw4GE.&
CLASS:PUBLIC
DTSTART:20260423T150000
DTSTAMP:20260423T083044
END:VEVENT
END:VCALENDAR