BEGIN:VCALENDAR
VERSION:2.0
PRODID:http://www.infomax-online.de/imxeventmanager/
METHOD:PUBLISH
BEGIN:VTIMEZONE
TZID:Europe/Berlin
TZURL:http://tzurl.org/zoneinfo-outlook/Europe/Berlin
X-LIC-LOCATION:Europe/Berlin
END:VTIMEZONE
BEGIN:VEVENT
UID:69eb2089e25ee
LOCATION:Helene-Stöcker-Straße 3, 23843 Bad Oldesloe
SUMMARY;ENCODING=QUOTED-PRINTABLE:Kinder-und Jugendtreff HdK
DESCRIPTION;ENCODING=QUOTED-PRINTABLE:Hier im Haus der Kirche wird gebastelt, mit dem Kicker gespielt,=0D=0AMusik gehört und am PC Zeit verbracht. Nachmittags setzen wir uns=0D=0Afür eine gemütliche Getränke- und Snackrunde zusammen und tauschen=0D=0AErlebnisse vom Tag aus. In den Ferien finden besondere Angebote=0D=0Astatt, für die eine Anmeldung nötig ist.=0D=0A=0D=0ANach der Schule ist hier bei uns der richtige Platz gemeinsam mit=0D=0AFreunden sich zu treffen und zu chillen.=0D=0A=0D=0A =0D=0A=0D=0AVERANSTALTER=0D=0A=0D=0A	* Ev.-Luth. Kirchengemeinde Oldesloe=0D=0A[https://www.nordkirche.de/institution/?nkci=1915]=0D=0A=0D=0A
URL;VALUE=URI:https://hamburgwhl.infomaxnet.de/standard_widget_de/e-kinder-und-jugendtreff-hdk-70?eventDateId=29459285&widgetToken=22vcqFKw4GE.&
CLASS:PUBLIC
DTSTART:20260424T150000
DTSTAMP:20260424T094929
END:VEVENT
END:VCALENDAR